BEGIN:VCALENDAR
VERSION:2.0
PRODID:-//People First Merseyside - ECPv6.15.14//NONSGML v1.0//EN
CALSCALE:GREGORIAN
METHOD:PUBLISH
X-ORIGINAL-URL:https://peoplefirstmerseyside.co.uk
X-WR-CALDESC:Events for People First Merseyside
REFRESH-INTERVAL;VALUE=DURATION:PT1H
X-Robots-Tag:noindex
X-PUBLISHED-TTL:PT1H
BEGIN:VTIMEZONE
TZID:UTC
BEGIN:STANDARD
TZOFFSETFROM:+0000
TZOFFSETTO:+0000
TZNAME:UTC
DTSTART:20190101T000000
END:STANDARD
END:VTIMEZONE
BEGIN:VEVENT
DTSTART;TZID=UTC:20200727T091500
DTEND;TZID=UTC:20200727T110000
DTSTAMP:20260423T000123
CREATED:20200630T140350Z
LAST-MODIFIED:20200702T214349Z
UID:887-1595841300-1595847600@peoplefirstmerseyside.co.uk
SUMMARY:Board Meeting
DESCRIPTION:Monthly meeting for People First Merseyside Board members
URL:https://peoplefirstmerseyside.co.uk/event/board-meeting/
END:VEVENT
BEGIN:VEVENT
DTSTART;TZID=UTC:20200724T133000
DTEND;TZID=UTC:20200724T150000
DTSTAMP:20260423T000123
CREATED:20200630T140058Z
LAST-MODIFIED:20200702T214351Z
UID:884-1595597400-1595602800@peoplefirstmerseyside.co.uk
SUMMARY:Fun Fridays - Disco
DESCRIPTION:Virtual Disco on Zoom with DJ Dan.
URL:https://peoplefirstmerseyside.co.uk/event/fun-fridays-disco/
END:VEVENT
BEGIN:VEVENT
DTSTART;TZID=UTC:20200723T133000
DTEND;TZID=UTC:20200723T150000
DTSTAMP:20260423T000123
CREATED:20200630T134046Z
LAST-MODIFIED:20200702T214353Z
UID:865-1595511000-1595516400@peoplefirstmerseyside.co.uk
SUMMARY:DAVID (Dignity and Voices in Dying) Meeting
DESCRIPTION:Weekly DAVID (Dignity and Voices in Dying) Project meeting where members learn about different subjects around death and dying. We will be focusing on issues such as future planning\, consent\, wills\, funerals etc.
URL:https://peoplefirstmerseyside.co.uk/event/david-dignity-and-voices-in-dying-meeting-4/
CATEGORIES:DAVID (Dignity and Voices in Dying)
END:VEVENT
BEGIN:VEVENT
DTSTART;TZID=UTC:20200722T133000
DTEND;TZID=UTC:20200722T150000
DTSTAMP:20260423T000123
CREATED:20200630T123630Z
LAST-MODIFIED:20200702T214355Z
UID:802-1595424600-1595430000@peoplefirstmerseyside.co.uk
SUMMARY:Passports To Good Health Meeting
DESCRIPTION:Zoom meeting to talk about how people with learning disabilities can stay healthy.  Each meeting focuses on different areas of health and health services.
URL:https://peoplefirstmerseyside.co.uk/event/passports-to-good-health-4/
CATEGORIES:Passports To Good Health
END:VEVENT
BEGIN:VEVENT
DTSTART;TZID=UTC:20200721T133000
DTEND;TZID=UTC:20200721T150000
DTSTAMP:20260423T000123
CREATED:20200630T131602Z
LAST-MODIFIED:20200702T214356Z
UID:842-1595338200-1595343600@peoplefirstmerseyside.co.uk
SUMMARY:Merseyside Live and Learn Group Meeting
DESCRIPTION:Weekly meeting to discuss our Merseyside Live and Learn project run by and for people with learning disabilities. Members design\, plan and run their own programme of activities which gives them a chance to be more independent\, make new friends\, try new things and learn new skills.
URL:https://peoplefirstmerseyside.co.uk/event/merseyside-live-and-learn-group-meeting-3/
CATEGORIES:Merseyside Live and Learn Group
END:VEVENT
BEGIN:VEVENT
DTSTART;TZID=UTC:20200720T133000
DTEND;TZID=UTC:20200720T150000
DTSTAMP:20260423T000123
CREATED:20200630T125853Z
LAST-MODIFIED:20200702T214358Z
UID:825-1595251800-1595257200@peoplefirstmerseyside.co.uk
SUMMARY:AIM  Sing and Sign Session with Helen Andrews
DESCRIPTION:Weekly zoom session with Helen Andrews learning BSL through sing and sign. The session is part of our A.I.M. (Aspiration Inspiration Motivation) funded by ESF.
URL:https://peoplefirstmerseyside.co.uk/event/aim-sing-and-sign-session-with-helen-andrews-2/
CATEGORIES:AIM
END:VEVENT
BEGIN:VEVENT
DTSTART;TZID=UTC:20200717T133000
DTEND;TZID=UTC:20200717T150000
DTSTAMP:20260423T000123
CREATED:20200630T135909Z
LAST-MODIFIED:20200702T214400Z
UID:882-1594992600-1594998000@peoplefirstmerseyside.co.uk
SUMMARY:Fun Fridays - True or False Game
DESCRIPTION:Online true or false game using Zoom.
URL:https://peoplefirstmerseyside.co.uk/event/fun-fridays-true-or-false-game/
END:VEVENT
BEGIN:VEVENT
DTSTART;TZID=UTC:20200717T103000
DTEND;TZID=UTC:20200717T120000
DTSTAMP:20260423T000123
CREATED:20200630T140516Z
LAST-MODIFIED:20200702T214402Z
UID:889-1594981800-1594987200@peoplefirstmerseyside.co.uk
SUMMARY:Cheshire and Merseyside Confirm and Challenge Meeting
DESCRIPTION:Meeting attended by self advocates\, parent carers and professionals from across Cheshire and Merseyside. At these meetings we talk about the transforming care agenda and people leaving long stay hospitals.
URL:https://peoplefirstmerseyside.co.uk/event/cheshire-and-merseyside-confirm-and-challenge-meeting/
END:VEVENT
BEGIN:VEVENT
DTSTART;TZID=UTC:20200716T133000
DTEND;TZID=UTC:20200716T150000
DTSTAMP:20260423T000123
CREATED:20200630T133838Z
LAST-MODIFIED:20200702T214404Z
UID:863-1594906200-1594911600@peoplefirstmerseyside.co.uk
SUMMARY:DAVID (Dignity and Voices in Dying) Meeting
DESCRIPTION:Weekly DAVID (Dignity and Voices in Dying) Project meeting where members learn about different subjects around death and dying. We will be focusing on issues such as future planning\, consent\, wills\, funerals etc.
URL:https://peoplefirstmerseyside.co.uk/event/david-dignity-and-voices-in-dying-meeting-3/
CATEGORIES:DAVID (Dignity and Voices in Dying)
END:VEVENT
BEGIN:VEVENT
DTSTART;TZID=UTC:20200715T133000
DTEND;TZID=UTC:20200715T150000
DTSTAMP:20260423T000123
CREATED:20200630T123348Z
LAST-MODIFIED:20200702T214429Z
UID:798-1594819800-1594825200@peoplefirstmerseyside.co.uk
SUMMARY:Passports To Good Health Meeting
DESCRIPTION:Zoom meeting to talk about how people with learning disabilities can stay healthy.  Each meeting focuses on different areas of health and health services.
URL:https://peoplefirstmerseyside.co.uk/event/passports-to-good-health-3/
CATEGORIES:Passports To Good Health
END:VEVENT
BEGIN:VEVENT
DTSTART;TZID=UTC:20200714T133000
DTEND;TZID=UTC:20200714T150000
DTSTAMP:20260423T000123
CREATED:20200630T131502Z
LAST-MODIFIED:20200702T214432Z
UID:840-1594733400-1594738800@peoplefirstmerseyside.co.uk
SUMMARY:Merseyside Live and Learn Group Meeting
DESCRIPTION:Weekly meeting to discuss our Merseyside Live and Learn project run by and for people with learning disabilities. Members design\, plan and run their own programme of activities which gives them a chance to be more independent\, make new friends\, try new things and learn new skills.
URL:https://peoplefirstmerseyside.co.uk/event/merseyside-live-and-learn-group-meeting-2/
CATEGORIES:Merseyside Live and Learn Group
END:VEVENT
BEGIN:VEVENT
DTSTART;TZID=UTC:20200713T133000
DTEND;TZID=UTC:20200713T150000
DTSTAMP:20260423T000123
CREATED:20200630T125644Z
LAST-MODIFIED:20200702T214436Z
UID:822-1594647000-1594652400@peoplefirstmerseyside.co.uk
SUMMARY:AIM  Sing and Sign Session with Helen Andrews
DESCRIPTION:Weekly zoom session with Helen Andrews learning BSL through sing and sign. The session is part of our A.I.M. (Aspiration Inspiration Motivation) funded by ESF.
URL:https://peoplefirstmerseyside.co.uk/event/aim-sing-and-sign-session-with-helen-andrews/
CATEGORIES:AIM
END:VEVENT
BEGIN:VEVENT
DTSTART;TZID=UTC:20200710T133000
DTEND;TZID=UTC:20200710T150000
DTSTAMP:20260423T000123
CREATED:20200630T135638Z
LAST-MODIFIED:20200702T214439Z
UID:880-1594387800-1594393200@peoplefirstmerseyside.co.uk
SUMMARY:Fun Fridays - Picture Quiz
DESCRIPTION:Online picture quiz using Zoom.
URL:https://peoplefirstmerseyside.co.uk/event/fun-fridays-picture-quiz/
END:VEVENT
BEGIN:VEVENT
DTSTART;TZID=UTC:20200709T133000
DTEND;TZID=UTC:20200709T150000
DTSTAMP:20260423T000123
CREATED:20200630T133712Z
LAST-MODIFIED:20200702T214442Z
UID:861-1594301400-1594306800@peoplefirstmerseyside.co.uk
SUMMARY:DAVID (Dignity and Voices in Dying) Meeting
DESCRIPTION:Weekly DAVID (Dignity and Voices in Dying) Project meeting where members learn about different subjects around death and dying. We will be focusing on issues such as future planning\, consent\, wills\, funerals etc.
URL:https://peoplefirstmerseyside.co.uk/event/david-dignity-and-voices-in-dying-meeting-2/
CATEGORIES:DAVID (Dignity and Voices in Dying)
END:VEVENT
BEGIN:VEVENT
DTSTART;TZID=UTC:20200709T093000
DTEND;TZID=UTC:20200709T103000
DTSTAMP:20260423T000123
CREATED:20200630T141135Z
LAST-MODIFIED:20200702T214445Z
UID:893-1594287000-1594290600@peoplefirstmerseyside.co.uk
SUMMARY:Regional Staying Healthy Meeting
DESCRIPTION:Self advocate\, parent carers and professionals from across the North West meeting to discuss health issues.
URL:https://peoplefirstmerseyside.co.uk/event/regional-staying-healthy-meeting/
END:VEVENT
BEGIN:VEVENT
DTSTART;TZID=UTC:20200708T133000
DTEND;TZID=UTC:20200708T150000
DTSTAMP:20260423T000123
CREATED:20200630T123301Z
LAST-MODIFIED:20200703T143944Z
UID:797-1594215000-1594220400@peoplefirstmerseyside.co.uk
SUMMARY:Passports To Good Health Meeting
DESCRIPTION:Zoom meeting to talk about how people with learning disabilities can stay healthy.  Each meeting focuses on different areas of health and health services.
URL:https://peoplefirstmerseyside.co.uk/event/passports-to-good-health-2/
CATEGORIES:Passports To Good Health
END:VEVENT
BEGIN:VEVENT
DTSTART;TZID=UTC:20200707T133000
DTEND;TZID=UTC:20200707T150000
DTSTAMP:20260423T000123
CREATED:20200630T131410Z
LAST-MODIFIED:20200702T214457Z
UID:837-1594128600-1594134000@peoplefirstmerseyside.co.uk
SUMMARY:Merseyside Live and Learn Group Meeting
DESCRIPTION:Weekly meeting to discuss our Merseyside Live and Learn project run by and for people with learning disabilities. Members design\, plan and run their own programme of activities which gives them a chance to be more independent\, make new friends\, try new things and learn new skills.
URL:https://peoplefirstmerseyside.co.uk/event/merseyside-live-and-learn-group-meeting/
CATEGORIES:Merseyside Live and Learn Group
END:VEVENT
BEGIN:VEVENT
DTSTART;TZID=UTC:20200706T133000
DTEND;TZID=UTC:20200706T150000
DTSTAMP:20260423T000123
CREATED:20200630T124316Z
LAST-MODIFIED:20200702T214459Z
UID:808-1594042200-1594047600@peoplefirstmerseyside.co.uk
SUMMARY:AIM  Sing and Sign Session with Helen Andrews
DESCRIPTION:Weekly zoom session with Helen Andrews learning BSL through sing and sign. The session is part of our A.I.M. (Aspiration Inspiration Motivation) funded by ESF.
URL:https://peoplefirstmerseyside.co.uk/event/aim-sing-and-sign-with-helen-andrews/
CATEGORIES:AIM
END:VEVENT
BEGIN:VEVENT
DTSTART;TZID=UTC:20200703T133000
DTEND;TZID=UTC:20200703T150000
DTSTAMP:20260423T000123
CREATED:20200630T135052Z
LAST-MODIFIED:20200702T214501Z
UID:878-1593783000-1593788400@peoplefirstmerseyside.co.uk
SUMMARY:Fun Fridays - Bingo
DESCRIPTION:Virtual Bingo on Zoom
URL:https://peoplefirstmerseyside.co.uk/event/fun-fridays-bingo/
END:VEVENT
BEGIN:VEVENT
DTSTART;TZID=UTC:20200702T133000
DTEND;TZID=UTC:20200702T150000
DTSTAMP:20260423T000123
CREATED:20200630T133548Z
LAST-MODIFIED:20200704T231215Z
UID:854-1593696600-1593702000@peoplefirstmerseyside.co.uk
SUMMARY:DAVID (Dignity and Voices in Dying) Meeting
DESCRIPTION:Weekly DAVID (Dignity and Voices in Dying) Project meeting where members learn about different subjects around death and dying. We will be focusing on issues such as future planning\, consent\, wills\, funerals etc.
URL:https://peoplefirstmerseyside.co.uk/event/david-dignity-and-voices-in-dying-meeting/
CATEGORIES:DAVID (Dignity and Voices in Dying)
END:VEVENT
BEGIN:VEVENT
DTSTART;TZID=UTC:20200701T133000
DTEND;TZID=UTC:20200701T150000
DTSTAMP:20260423T000123
CREATED:20200630T122339Z
LAST-MODIFIED:20200702T214426Z
UID:792-1593610200-1593615600@peoplefirstmerseyside.co.uk
SUMMARY:Passports To Good Health Meeting
DESCRIPTION:Zoom meeting to talk about how people with learning disabilities can stay healthy.  Each meeting focuses on different areas of health and health services.
URL:https://peoplefirstmerseyside.co.uk/event/passports-to-good-health/
CATEGORIES:Passports To Good Health
END:VEVENT
END:VCALENDAR