BEGIN:VCALENDAR
VERSION:2.0
PRODID:-//People First Merseyside - ECPv6.15.14//NONSGML v1.0//EN
CALSCALE:GREGORIAN
METHOD:PUBLISH
X-ORIGINAL-URL:https://peoplefirstmerseyside.co.uk
X-WR-CALDESC:Events for People First Merseyside
REFRESH-INTERVAL;VALUE=DURATION:PT1H
X-Robots-Tag:noindex
X-PUBLISHED-TTL:PT1H
BEGIN:VTIMEZONE
TZID:UTC
BEGIN:STANDARD
TZOFFSETFROM:+0000
TZOFFSETTO:+0000
TZNAME:UTC
DTSTART:20190101T000000
END:STANDARD
END:VTIMEZONE
BEGIN:VEVENT
DTSTART;TZID=UTC:20200827T133000
DTEND;TZID=UTC:20200827T150000
DTSTAMP:20260422T210131
CREATED:20200630T134502Z
LAST-MODIFIED:20200702T214050Z
UID:875-1598535000-1598540400@peoplefirstmerseyside.co.uk
SUMMARY:DAVID (Dignity and Voices in Dying) Meeting
DESCRIPTION:Weekly DAVID (Dignity and Voices in Dying) Project meeting where members learn about different subjects around death and dying. We will be focusing on issues such as future planning\, consent\, wills\, funerals etc.
URL:https://peoplefirstmerseyside.co.uk/event/david-dignity-and-voices-in-dying-meeting-9/
CATEGORIES:DAVID (Dignity and Voices in Dying)
END:VEVENT
BEGIN:VEVENT
DTSTART;TZID=UTC:20200826T133000
DTEND;TZID=UTC:20200826T150000
DTSTAMP:20260422T210131
CREATED:20200630T124847Z
LAST-MODIFIED:20200702T214225Z
UID:819-1598448600-1598454000@peoplefirstmerseyside.co.uk
SUMMARY:Passports To Good Health Meeting
DESCRIPTION:Zoom meeting to talk about how people with learning disabilities can stay healthy.  Each meeting focuses on different areas of health and health services.
URL:https://peoplefirstmerseyside.co.uk/event/passports-to-good-health-meeting-5/
CATEGORIES:Passports To Good Health
END:VEVENT
BEGIN:VEVENT
DTSTART;TZID=UTC:20200825T133000
DTEND;TZID=UTC:20200825T150000
DTSTAMP:20260422T210131
CREATED:20200630T131952Z
LAST-MODIFIED:20200702T214229Z
UID:852-1598362200-1598367600@peoplefirstmerseyside.co.uk
SUMMARY:Merseyside Live and Learn Group Meeting
DESCRIPTION:Weekly meeting to discuss our Merseyside Live and Learn project run by and for people with learning disabilities. Members design\, plan and run their own programme of activities which gives them a chance to be more independent\, make new friends\, try new things and learn new skills.
URL:https://peoplefirstmerseyside.co.uk/event/merseyside-live-and-learn-group-meeting-8/
CATEGORIES:Merseyside Live and Learn Group
END:VEVENT
BEGIN:VEVENT
DTSTART;TZID=UTC:20200824T133000
DTEND;TZID=UTC:20200824T150000
DTSTAMP:20260422T210131
CREATED:20200630T130335Z
LAST-MODIFIED:20200702T214232Z
UID:835-1598275800-1598281200@peoplefirstmerseyside.co.uk
SUMMARY:AIM  Sing and Sign Session with Helen Andrews
DESCRIPTION:Weekly zoom session with Helen Andrews learning BSL through sing and sign. The session is part of our A.I.M. (Aspiration Inspiration Motivation) funded by ESF.
URL:https://peoplefirstmerseyside.co.uk/event/aim-sing-and-sign-session-with-helen-andrews-7/
CATEGORIES:AIM
END:VEVENT
BEGIN:VEVENT
DTSTART;TZID=UTC:20200821T133000
DTEND;TZID=UTC:20200821T150000
DTSTAMP:20260422T210131
CREATED:20200821T102447Z
LAST-MODIFIED:20200821T102447Z
UID:1352-1598016600-1598022000@peoplefirstmerseyside.co.uk
SUMMARY:Fun Fridays - Cartoon Quiz
DESCRIPTION:Join us on Zoom for a fun Cartoon Quiz with Paul!
URL:https://peoplefirstmerseyside.co.uk/event/fun-fridays-cartoon-quiz/
END:VEVENT
BEGIN:VEVENT
DTSTART;TZID=UTC:20200820T133000
DTEND;TZID=UTC:20200820T150000
DTSTAMP:20260422T210131
CREATED:20200630T134355Z
LAST-MODIFIED:20200702T214235Z
UID:873-1597930200-1597935600@peoplefirstmerseyside.co.uk
SUMMARY:DAVID (Dignity and Voices in Dying) Meeting
DESCRIPTION:Weekly DAVID (Dignity and Voices in Dying) Project meeting where members learn about different subjects around death and dying. We will be focusing on issues such as future planning\, consent\, wills\, funerals etc.
URL:https://peoplefirstmerseyside.co.uk/event/david-dignity-and-voices-in-dying-meeting-8/
CATEGORIES:DAVID (Dignity and Voices in Dying)
END:VEVENT
BEGIN:VEVENT
DTSTART;TZID=UTC:20200819T133000
DTEND;TZID=UTC:20200819T150000
DTSTAMP:20260422T210131
CREATED:20200630T124801Z
LAST-MODIFIED:20200702T214238Z
UID:817-1597843800-1597849200@peoplefirstmerseyside.co.uk
SUMMARY:Passports To Good Health Meeting
DESCRIPTION:Zoom meeting to talk about how people with learning disabilities can stay healthy.  Each meeting focuses on different areas of health and health services.
URL:https://peoplefirstmerseyside.co.uk/event/passports-to-good-health-meeting-4/
CATEGORIES:Passports To Good Health
END:VEVENT
BEGIN:VEVENT
DTSTART;TZID=UTC:20200818T133000
DTEND;TZID=UTC:20200818T150000
DTSTAMP:20260422T210131
CREATED:20200630T131900Z
LAST-MODIFIED:20200702T214243Z
UID:850-1597757400-1597762800@peoplefirstmerseyside.co.uk
SUMMARY:Merseyside Live and Learn Group Meeting
DESCRIPTION:Weekly meeting to discuss our Merseyside Live and Learn project run by and for people with learning disabilities. Members design\, plan and run their own programme of activities which gives them a chance to be more independent\, make new friends\, try new things and learn new skills.
URL:https://peoplefirstmerseyside.co.uk/event/merseyside-live-and-learn-group-meeting-7/
CATEGORIES:Merseyside Live and Learn Group
END:VEVENT
BEGIN:VEVENT
DTSTART;TZID=UTC:20200817T133000
DTEND;TZID=UTC:20200817T150000
DTSTAMP:20260422T210131
CREATED:20200630T130239Z
LAST-MODIFIED:20200702T214246Z
UID:833-1597671000-1597676400@peoplefirstmerseyside.co.uk
SUMMARY:AIM  Sing and Sign Session with Helen Andrews
DESCRIPTION:Weekly zoom session with Helen Andrews learning BSL through sing and sign. The session is part of our A.I.M. (Aspiration Inspiration Motivation) funded by ESF.
URL:https://peoplefirstmerseyside.co.uk/event/aim-sing-and-sign-session-with-helen-andrews-6/
CATEGORIES:AIM
END:VEVENT
BEGIN:VEVENT
DTSTART;TZID=UTC:20200814T133000
DTEND;TZID=UTC:20200814T150000
DTSTAMP:20260422T210131
CREATED:20200821T102326Z
LAST-MODIFIED:20200821T102327Z
UID:1350-1597411800-1597417200@peoplefirstmerseyside.co.uk
SUMMARY:Fun Fridays - Bingo
DESCRIPTION:Join us on Zoom for Bingo with Jan!
URL:https://peoplefirstmerseyside.co.uk/event/fun-fridays-bingo-2/
END:VEVENT
BEGIN:VEVENT
DTSTART;TZID=UTC:20200813T133000
DTEND;TZID=UTC:20200813T150000
DTSTAMP:20260422T210131
CREATED:20200630T134225Z
LAST-MODIFIED:20200702T214249Z
UID:871-1597325400-1597330800@peoplefirstmerseyside.co.uk
SUMMARY:DAVID (Dignity and Voices in Dying) Meeting
DESCRIPTION:Weekly DAVID (Dignity and Voices in Dying) Project meeting where members learn about different subjects around death and dying. We will be focusing on issues such as future planning\, consent\, wills\, funerals etc.
URL:https://peoplefirstmerseyside.co.uk/event/david-dignity-and-voices-in-dying-meeting-7/
CATEGORIES:DAVID (Dignity and Voices in Dying)
END:VEVENT
BEGIN:VEVENT
DTSTART;TZID=UTC:20200812T133000
DTEND;TZID=UTC:20200812T150000
DTSTAMP:20260422T210131
CREATED:20200630T124708Z
LAST-MODIFIED:20200702T214253Z
UID:815-1597239000-1597244400@peoplefirstmerseyside.co.uk
SUMMARY:Passports To Good Health Meeting
DESCRIPTION:Zoom meeting to talk about how people with learning disabilities can stay healthy.  Each meeting focuses on different areas of health and health services.
URL:https://peoplefirstmerseyside.co.uk/event/passports-to-good-health-meeting-3/
CATEGORIES:Passports To Good Health
END:VEVENT
BEGIN:VEVENT
DTSTART;TZID=UTC:20200811T133000
DTEND;TZID=UTC:20200811T150000
DTSTAMP:20260422T210131
CREATED:20200630T131818Z
LAST-MODIFIED:20200702T214257Z
UID:848-1597152600-1597158000@peoplefirstmerseyside.co.uk
SUMMARY:Merseyside Live and Learn Group Meeting
DESCRIPTION:Weekly meeting to discuss our Merseyside Live and Learn project run by and for people with learning disabilities. Members design\, plan and run their own programme of activities which gives them a chance to be more independent\, make new friends\, try new things and learn new skills.
URL:https://peoplefirstmerseyside.co.uk/event/merseyside-live-and-learn-group-meeting-6/
CATEGORIES:Merseyside Live and Learn Group
END:VEVENT
BEGIN:VEVENT
DTSTART;TZID=UTC:20200810T133000
DTEND;TZID=UTC:20200810T150000
DTSTAMP:20260422T210131
CREATED:20200630T130146Z
LAST-MODIFIED:20200702T214305Z
UID:831-1597066200-1597071600@peoplefirstmerseyside.co.uk
SUMMARY:AIM  Sing and Sign Session with Helen Andrews
DESCRIPTION:Weekly zoom session with Helen Andrews learning BSL through sing and sign. The session is part of our A.I.M. (Aspiration Inspiration Motivation) funded by ESF.
URL:https://peoplefirstmerseyside.co.uk/event/aim-sing-and-sign-session-with-helen-andrews-5/
CATEGORIES:AIM
END:VEVENT
BEGIN:VEVENT
DTSTART;TZID=UTC:20200807T133000
DTEND;TZID=UTC:20200807T150000
DTSTAMP:20260422T210131
CREATED:20200821T102159Z
LAST-MODIFIED:20200821T102200Z
UID:1348-1596807000-1596812400@peoplefirstmerseyside.co.uk
SUMMARY:Fun Fridays - Logo Quiz
DESCRIPTION:Join us on Zoom for a fun Logo Quiz with Jade!
URL:https://peoplefirstmerseyside.co.uk/event/fun-fridays-logo-quiz/
END:VEVENT
BEGIN:VEVENT
DTSTART;TZID=UTC:20200806T133000
DTEND;TZID=UTC:20200806T150000
DTSTAMP:20260422T210131
CREATED:20200630T134150Z
LAST-MODIFIED:20200702T214308Z
UID:869-1596720600-1596726000@peoplefirstmerseyside.co.uk
SUMMARY:DAVID (Dignity and Voices in Dying) Meeting
DESCRIPTION:Weekly DAVID (Dignity and Voices in Dying) Project meeting where members learn about different subjects around death and dying. We will be focusing on issues such as future planning\, consent\, wills\, funerals etc.
URL:https://peoplefirstmerseyside.co.uk/event/david-dignity-and-voices-in-dying-meeting-6/
CATEGORIES:DAVID (Dignity and Voices in Dying)
END:VEVENT
BEGIN:VEVENT
DTSTART;TZID=UTC:20200805T133000
DTEND;TZID=UTC:20200805T150000
DTSTAMP:20260422T210131
CREATED:20200630T124610Z
LAST-MODIFIED:20200702T214318Z
UID:813-1596634200-1596639600@peoplefirstmerseyside.co.uk
SUMMARY:Passports To Good Health Meeting
DESCRIPTION:Zoom meeting to talk about how people with learning disabilities can stay healthy.  Each meeting focuses on different areas of health and health services.
URL:https://peoplefirstmerseyside.co.uk/event/passports-to-good-health-meeting-2/
CATEGORIES:Passports To Good Health
END:VEVENT
BEGIN:VEVENT
DTSTART;TZID=UTC:20200804T133000
DTEND;TZID=UTC:20200804T150000
DTSTAMP:20260422T210131
CREATED:20200630T131743Z
LAST-MODIFIED:20200702T214320Z
UID:846-1596547800-1596553200@peoplefirstmerseyside.co.uk
SUMMARY:Merseyside Live and Learn Group Meeting
DESCRIPTION:Weekly meeting to discuss our Merseyside Live and Learn project run by and for people with learning disabilities. Members design\, plan and run their own programme of activities which gives them a chance to be more independent\, make new friends\, try new things and learn new skills.
URL:https://peoplefirstmerseyside.co.uk/event/merseyside-live-and-learn-group-meeting-5/
CATEGORIES:Merseyside Live and Learn Group
END:VEVENT
BEGIN:VEVENT
DTSTART;TZID=UTC:20200803T133000
DTEND;TZID=UTC:20200803T150000
DTSTAMP:20260422T210131
CREATED:20200630T130108Z
LAST-MODIFIED:20200702T214337Z
UID:829-1596461400-1596466800@peoplefirstmerseyside.co.uk
SUMMARY:AIM  Sing and Sign Session with Helen Andrews
DESCRIPTION:Weekly zoom session with Helen Andrews learning BSL through sing and sign. The session is part of our A.I.M. (Aspiration Inspiration Motivation) funded by ESF.
URL:https://peoplefirstmerseyside.co.uk/event/aim-sing-and-sign-session-with-helen-andrews-4/
CATEGORIES:AIM
END:VEVENT
BEGIN:VEVENT
DTSTART;TZID=UTC:20200731T133000
DTEND;TZID=UTC:20200731T150000
DTSTAMP:20260422T210131
CREATED:20200630T145551Z
LAST-MODIFIED:20200702T214340Z
UID:898-1596202200-1596207600@peoplefirstmerseyside.co.uk
SUMMARY:Fun Fridays
DESCRIPTION:
URL:https://peoplefirstmerseyside.co.uk/event/fun-fridays/
END:VEVENT
BEGIN:VEVENT
DTSTART;TZID=UTC:20200730T133000
DTEND;TZID=UTC:20200730T150000
DTSTAMP:20260422T210131
CREATED:20200630T134120Z
LAST-MODIFIED:20200702T214341Z
UID:867-1596115800-1596121200@peoplefirstmerseyside.co.uk
SUMMARY:DAVID (Dignity and Voices in Dying) Meeting
DESCRIPTION:Weekly DAVID (Dignity and Voices in Dying) Project meeting where members learn about different subjects around death and dying. We will be focusing on issues such as future planning\, consent\, wills\, funerals etc.
URL:https://peoplefirstmerseyside.co.uk/event/david-dignity-and-voices-in-dying-meeting-5/
CATEGORIES:DAVID (Dignity and Voices in Dying)
END:VEVENT
BEGIN:VEVENT
DTSTART;TZID=UTC:20200729T133000
DTEND;TZID=UTC:20200729T150000
DTSTAMP:20260422T210131
CREATED:20200630T124515Z
LAST-MODIFIED:20200702T214343Z
UID:811-1596029400-1596034800@peoplefirstmerseyside.co.uk
SUMMARY:Passports To Good Health Meeting
DESCRIPTION:Zoom meeting to talk about how people with learning disabilities can stay healthy.  Each meeting focuses on different areas of health and health services.
URL:https://peoplefirstmerseyside.co.uk/event/passports-to-good-health-meeting/
CATEGORIES:Passports To Good Health
END:VEVENT
BEGIN:VEVENT
DTSTART;TZID=UTC:20200728T133000
DTEND;TZID=UTC:20200728T150000
DTSTAMP:20260422T210131
CREATED:20200630T131702Z
LAST-MODIFIED:20200702T214345Z
UID:844-1595943000-1595948400@peoplefirstmerseyside.co.uk
SUMMARY:Merseyside Live and Learn Group Meeting
DESCRIPTION:Weekly meeting to discuss our Merseyside Live and Learn project run by and for people with learning disabilities. Members design\, plan and run their own programme of activities which gives them a chance to be more independent\, make new friends\, try new things and learn new skills.
URL:https://peoplefirstmerseyside.co.uk/event/merseyside-live-and-learn-group-meeting-4/
CATEGORIES:Merseyside Live and Learn Group
END:VEVENT
BEGIN:VEVENT
DTSTART;TZID=UTC:20200727T133000
DTEND;TZID=UTC:20200727T150000
DTSTAMP:20260422T210131
CREATED:20200630T125931Z
LAST-MODIFIED:20200702T214347Z
UID:827-1595856600-1595862000@peoplefirstmerseyside.co.uk
SUMMARY:AIM  Sing and Sign Session with Helen Andrews
DESCRIPTION:Weekly zoom session with Helen Andrews learning BSL through sing and sign. The session is part of our A.I.M. (Aspiration Inspiration Motivation) funded by ESF.
URL:https://peoplefirstmerseyside.co.uk/event/aim-sing-and-sign-session-with-helen-andrews-3/
CATEGORIES:AIM
END:VEVENT
BEGIN:VEVENT
DTSTART;TZID=UTC:20200727T091500
DTEND;TZID=UTC:20200727T110000
DTSTAMP:20260422T210131
CREATED:20200630T140350Z
LAST-MODIFIED:20200702T214349Z
UID:887-1595841300-1595847600@peoplefirstmerseyside.co.uk
SUMMARY:Board Meeting
DESCRIPTION:Monthly meeting for People First Merseyside Board members
URL:https://peoplefirstmerseyside.co.uk/event/board-meeting/
END:VEVENT
BEGIN:VEVENT
DTSTART;TZID=UTC:20200724T133000
DTEND;TZID=UTC:20200724T150000
DTSTAMP:20260422T210131
CREATED:20200630T140058Z
LAST-MODIFIED:20200702T214351Z
UID:884-1595597400-1595602800@peoplefirstmerseyside.co.uk
SUMMARY:Fun Fridays - Disco
DESCRIPTION:Virtual Disco on Zoom with DJ Dan.
URL:https://peoplefirstmerseyside.co.uk/event/fun-fridays-disco/
END:VEVENT
BEGIN:VEVENT
DTSTART;TZID=UTC:20200723T133000
DTEND;TZID=UTC:20200723T150000
DTSTAMP:20260422T210131
CREATED:20200630T134046Z
LAST-MODIFIED:20200702T214353Z
UID:865-1595511000-1595516400@peoplefirstmerseyside.co.uk
SUMMARY:DAVID (Dignity and Voices in Dying) Meeting
DESCRIPTION:Weekly DAVID (Dignity and Voices in Dying) Project meeting where members learn about different subjects around death and dying. We will be focusing on issues such as future planning\, consent\, wills\, funerals etc.
URL:https://peoplefirstmerseyside.co.uk/event/david-dignity-and-voices-in-dying-meeting-4/
CATEGORIES:DAVID (Dignity and Voices in Dying)
END:VEVENT
BEGIN:VEVENT
DTSTART;TZID=UTC:20200722T133000
DTEND;TZID=UTC:20200722T150000
DTSTAMP:20260422T210131
CREATED:20200630T123630Z
LAST-MODIFIED:20200702T214355Z
UID:802-1595424600-1595430000@peoplefirstmerseyside.co.uk
SUMMARY:Passports To Good Health Meeting
DESCRIPTION:Zoom meeting to talk about how people with learning disabilities can stay healthy.  Each meeting focuses on different areas of health and health services.
URL:https://peoplefirstmerseyside.co.uk/event/passports-to-good-health-4/
CATEGORIES:Passports To Good Health
END:VEVENT
BEGIN:VEVENT
DTSTART;TZID=UTC:20200721T133000
DTEND;TZID=UTC:20200721T150000
DTSTAMP:20260422T210131
CREATED:20200630T131602Z
LAST-MODIFIED:20200702T214356Z
UID:842-1595338200-1595343600@peoplefirstmerseyside.co.uk
SUMMARY:Merseyside Live and Learn Group Meeting
DESCRIPTION:Weekly meeting to discuss our Merseyside Live and Learn project run by and for people with learning disabilities. Members design\, plan and run their own programme of activities which gives them a chance to be more independent\, make new friends\, try new things and learn new skills.
URL:https://peoplefirstmerseyside.co.uk/event/merseyside-live-and-learn-group-meeting-3/
CATEGORIES:Merseyside Live and Learn Group
END:VEVENT
BEGIN:VEVENT
DTSTART;TZID=UTC:20200720T133000
DTEND;TZID=UTC:20200720T150000
DTSTAMP:20260422T210131
CREATED:20200630T125853Z
LAST-MODIFIED:20200702T214358Z
UID:825-1595251800-1595257200@peoplefirstmerseyside.co.uk
SUMMARY:AIM  Sing and Sign Session with Helen Andrews
DESCRIPTION:Weekly zoom session with Helen Andrews learning BSL through sing and sign. The session is part of our A.I.M. (Aspiration Inspiration Motivation) funded by ESF.
URL:https://peoplefirstmerseyside.co.uk/event/aim-sing-and-sign-session-with-helen-andrews-2/
CATEGORIES:AIM
END:VEVENT
END:VCALENDAR