BEGIN:VCALENDAR
VERSION:2.0
PRODID:-//People First Merseyside - ECPv6.15.14//NONSGML v1.0//EN
CALSCALE:GREGORIAN
METHOD:PUBLISH
X-ORIGINAL-URL:https://peoplefirstmerseyside.co.uk
X-WR-CALDESC:Events for People First Merseyside
REFRESH-INTERVAL;VALUE=DURATION:PT1H
X-Robots-Tag:noindex
X-PUBLISHED-TTL:PT1H
BEGIN:VTIMEZONE
TZID:UTC
BEGIN:STANDARD
TZOFFSETFROM:+0000
TZOFFSETTO:+0000
TZNAME:UTC
DTSTART:20190101T000000
END:STANDARD
END:VTIMEZONE
BEGIN:VEVENT
DTSTART;TZID=UTC:20201103T133000
DTEND;TZID=UTC:20201103T150000
DTSTAMP:20260422T162234
CREATED:20201117T140529Z
LAST-MODIFIED:20201117T140607Z
UID:1755-1604410200-1604415600@peoplefirstmerseyside.co.uk
SUMMARY:Merseyside Live and Learn Group Meeting - NHS England Easy Read consultation.
DESCRIPTION:Weekly meeting to discuss our Merseyside Live and Learn project run by and for people with learning disabilities. Members design\, plan and run their own programme of activities which gives them a chance to be more independent\, make new friends\, try new things and learn new skills.
URL:https://peoplefirstmerseyside.co.uk/event/merseyside-live-and-learn-group-meeting-nhs-england-easy-read-consultation-5/
CATEGORIES:Merseyside Live and Learn Group
END:VEVENT
BEGIN:VEVENT
DTSTART;TZID=UTC:20201030T133000
DTEND;TZID=UTC:20201030T150000
DTSTAMP:20260422T162234
CREATED:20201001T133322Z
LAST-MODIFIED:20201001T133323Z
UID:1575-1604064600-1604070000@peoplefirstmerseyside.co.uk
SUMMARY:Fun Fridays -Halloween fun.
DESCRIPTION:Join us on Zoom for a spooky afternoon with Paul’s Halloween quiz and some Halloween themed tunes.
URL:https://peoplefirstmerseyside.co.uk/event/fun-fridays-halloween-fun/
END:VEVENT
BEGIN:VEVENT
DTSTART;TZID=UTC:20201029T133000
DTEND;TZID=UTC:20201029T150000
DTSTAMP:20260422T162234
CREATED:20201001T132619Z
LAST-MODIFIED:20201001T132620Z
UID:1565-1603978200-1603983600@peoplefirstmerseyside.co.uk
SUMMARY:DAVID (Dignity and Voices in Dying) Meeting
DESCRIPTION:DAVID (Dignity and Voices in Dying) Project meeting where members learn about different subjects around death and dying. We will be focusing on issues such as future planning\, consent\, wills\, funerals etc.
URL:https://peoplefirstmerseyside.co.uk/event/david-dignity-and-voices-in-dying-meeting-19/
CATEGORIES:DAVID (Dignity and Voices in Dying)
END:VEVENT
BEGIN:VEVENT
DTSTART;TZID=UTC:20201028T133000
DTEND;TZID=UTC:20201028T150000
DTSTAMP:20260422T162234
CREATED:20201001T134017Z
LAST-MODIFIED:20201001T134018Z
UID:1591-1603891800-1603897200@peoplefirstmerseyside.co.uk
SUMMARY:Passports To Good Health Meeting
DESCRIPTION:Zoom meeting to talk about how people with learning disabilities can stay healthy.  Each meeting focuses on different areas of health and health services.
URL:https://peoplefirstmerseyside.co.uk/event/passports-to-good-health-meeting-9/
CATEGORIES:Passports To Good Health
END:VEVENT
BEGIN:VEVENT
DTSTART;TZID=UTC:20201027T133000
DTEND;TZID=UTC:20201027T150000
DTSTAMP:20260422T162234
CREATED:20201001T133816Z
LAST-MODIFIED:20201001T133817Z
UID:1585-1603805400-1603810800@peoplefirstmerseyside.co.uk
SUMMARY:Merseyside Live and Learn Group Meeting - NHS England Easy Read consultation.
DESCRIPTION:Weekly meeting to discuss our Merseyside Live and Learn project run by and for people with learning disabilities. Members design\, plan and run their own programme of activities which gives them a chance to be more independent\, make new friends\, try new things and learn new skills.
URL:https://peoplefirstmerseyside.co.uk/event/merseyside-live-and-learn-group-meeting-nhs-england-easy-read-consultation-4/
CATEGORIES:Merseyside Live and Learn Group
END:VEVENT
BEGIN:VEVENT
DTSTART;TZID=UTC:20201023T133000
DTEND;TZID=UTC:20201023T150000
DTSTAMP:20260422T162234
CREATED:20201001T133151Z
LAST-MODIFIED:20201001T133152Z
UID:1573-1603459800-1603465200@peoplefirstmerseyside.co.uk
SUMMARY:Fun Fridays - Relaxation
DESCRIPTION:Join us on Zoom for a wonderful afternoon of relaxation with Jayne and Jan.
URL:https://peoplefirstmerseyside.co.uk/event/fun-fridays-relaxation/
END:VEVENT
BEGIN:VEVENT
DTSTART;TZID=UTC:20201022T133000
DTEND;TZID=UTC:20201022T150000
DTSTAMP:20260422T162234
CREATED:20201001T132551Z
LAST-MODIFIED:20201001T132552Z
UID:1563-1603373400-1603378800@peoplefirstmerseyside.co.uk
SUMMARY:DAVID (Dignity and Voices in Dying) Meeting
DESCRIPTION:DAVID (Dignity and Voices in Dying) Project meeting where members learn about different subjects around death and dying. We will be focusing on issues such as future planning\, consent\, wills\, funerals etc.
URL:https://peoplefirstmerseyside.co.uk/event/david-dignity-and-voices-in-dying-meeting-18/
CATEGORIES:DAVID (Dignity and Voices in Dying)
END:VEVENT
BEGIN:VEVENT
DTSTART;TZID=UTC:20201021T133000
DTEND;TZID=UTC:20201021T150000
DTSTAMP:20260422T162234
CREATED:20201001T133955Z
LAST-MODIFIED:20201001T133956Z
UID:1589-1603287000-1603292400@peoplefirstmerseyside.co.uk
SUMMARY:Passports To Good Health Meeting
DESCRIPTION:Zoom meeting to talk about how people with learning disabilities can stay healthy.  Each meeting focuses on different areas of health and health services.
URL:https://peoplefirstmerseyside.co.uk/event/passports-to-good-health-meeting-8/
CATEGORIES:Passports To Good Health
END:VEVENT
BEGIN:VEVENT
DTSTART;TZID=UTC:20201020T133000
DTEND;TZID=UTC:20201020T150000
DTSTAMP:20260422T162234
CREATED:20201001T133743Z
LAST-MODIFIED:20201001T133744Z
UID:1583-1603200600-1603206000@peoplefirstmerseyside.co.uk
SUMMARY:Merseyside Live and Learn Group Meeting - NHS England Easy Read consultation.
DESCRIPTION:Weekly meeting to discuss our Merseyside Live and Learn project run by and for people with learning disabilities. Members design\, plan and run their own programme of activities which gives them a chance to be more independent\, make new friends\, try new things and learn new skills.
URL:https://peoplefirstmerseyside.co.uk/event/merseyside-live-and-learn-group-meeting-nhs-england-easy-read-consultation-3/
CATEGORIES:Merseyside Live and Learn Group
END:VEVENT
BEGIN:VEVENT
DTSTART;TZID=UTC:20201019T133000
DTEND;TZID=UTC:20201019T150000
DTSTAMP:20260422T162234
CREATED:20201001T132251Z
LAST-MODIFIED:20201001T132252Z
UID:1551-1603114200-1603119600@peoplefirstmerseyside.co.uk
SUMMARY:AIM  Sing and Sign Session with Helen Andrews
DESCRIPTION:Weekly zoom session with Helen Andrews learning BSL through sing and sign. The session is part of our A.I.M. (Aspiration Inspiration Motivation) funded by ESF.
URL:https://peoplefirstmerseyside.co.uk/event/aim-sing-and-sign-session-with-helen-andrews-13/
CATEGORIES:AIM
END:VEVENT
BEGIN:VEVENT
DTSTART;TZID=UTC:20201019T091500
DTEND;TZID=UTC:20201019T104500
DTSTAMP:20260422T162234
CREATED:20201001T132328Z
LAST-MODIFIED:20201001T132329Z
UID:1553-1603098900-1603104300@peoplefirstmerseyside.co.uk
SUMMARY:Board of Directors Meeting
DESCRIPTION:First face to face meeting of our Board of Directors
URL:https://peoplefirstmerseyside.co.uk/event/board-of-directors-meeting-2/
LOCATION:People First Merseyside Office\, 375 Stanley Road\, Bootle\, L20 3EF
END:VEVENT
BEGIN:VEVENT
DTSTART;TZID=UTC:20201016T133000
DTEND;TZID=UTC:20201016T150000
DTSTAMP:20260422T162234
CREATED:20201001T133033Z
LAST-MODIFIED:20201001T133212Z
UID:1571-1602855000-1602860400@peoplefirstmerseyside.co.uk
SUMMARY:Fun Fridays - Play Your Cards right
DESCRIPTION:Join us on Zoom for a game of Play Your Cards right!
URL:https://peoplefirstmerseyside.co.uk/event/fun-fridays-play-your-cards-right/
END:VEVENT
BEGIN:VEVENT
DTSTART;TZID=UTC:20201015T133000
DTEND;TZID=UTC:20201015T150000
DTSTAMP:20260422T162234
CREATED:20201001T132529Z
LAST-MODIFIED:20201001T132530Z
UID:1561-1602768600-1602774000@peoplefirstmerseyside.co.uk
SUMMARY:DAVID (Dignity and Voices in Dying) Meeting
DESCRIPTION:DAVID (Dignity and Voices in Dying) Project meeting where members learn about different subjects around death and dying. We will be focusing on issues such as future planning\, consent\, wills\, funerals etc.
URL:https://peoplefirstmerseyside.co.uk/event/david-dignity-and-voices-in-dying-meeting-17/
CATEGORIES:DAVID (Dignity and Voices in Dying)
END:VEVENT
BEGIN:VEVENT
DTSTART;TZID=UTC:20201014T133000
DTEND;TZID=UTC:20201014T150000
DTSTAMP:20260422T162234
CREATED:20201001T133926Z
LAST-MODIFIED:20201001T133927Z
UID:1587-1602682200-1602687600@peoplefirstmerseyside.co.uk
SUMMARY:Passports To Good Health Meeting
DESCRIPTION:Zoom meeting to talk about how people with learning disabilities can stay healthy.  Each meeting focuses on different areas of health and health services.
URL:https://peoplefirstmerseyside.co.uk/event/passports-to-good-health-meeting-7/
CATEGORIES:Passports To Good Health
END:VEVENT
BEGIN:VEVENT
DTSTART;TZID=UTC:20201013T133000
DTEND;TZID=UTC:20201013T150000
DTSTAMP:20260422T162234
CREATED:20201001T133717Z
LAST-MODIFIED:20201001T133718Z
UID:1581-1602595800-1602601200@peoplefirstmerseyside.co.uk
SUMMARY:Merseyside Live and Learn Group Meeting - NHS England Easy Read consultation.
DESCRIPTION:Weekly meeting to discuss our Merseyside Live and Learn project run by and for people with learning disabilities. Members design\, plan and run their own programme of activities which gives them a chance to be more independent\, make new friends\, try new things and learn new skills.
URL:https://peoplefirstmerseyside.co.uk/event/merseyside-live-and-learn-group-meeting-nhs-england-easy-read-consultation-2/
CATEGORIES:Merseyside Live and Learn Group
END:VEVENT
BEGIN:VEVENT
DTSTART;TZID=UTC:20201012T133000
DTEND;TZID=UTC:20201012T150000
DTSTAMP:20260422T162234
CREATED:20201001T132229Z
LAST-MODIFIED:20201001T132230Z
UID:1549-1602509400-1602514800@peoplefirstmerseyside.co.uk
SUMMARY:AIM  Sing and Sign Session with Helen Andrews
DESCRIPTION:Weekly zoom session with Helen Andrews learning BSL through sing and sign. The session is part of our A.I.M. (Aspiration Inspiration Motivation) funded by ESF.
URL:https://peoplefirstmerseyside.co.uk/event/aim-sing-and-sign-session-with-helen-andrews-12/
CATEGORIES:AIM
END:VEVENT
BEGIN:VEVENT
DTSTART;TZID=UTC:20201009T133000
DTEND;TZID=UTC:20201009T150000
DTSTAMP:20260422T162234
CREATED:20201001T132936Z
LAST-MODIFIED:20201001T132937Z
UID:1569-1602250200-1602255600@peoplefirstmerseyside.co.uk
SUMMARY:Fun Fridays - Jade's general knowledge quiz
DESCRIPTION:Join us on Zoom for an afternoon of quizzing hosted by Jade!
URL:https://peoplefirstmerseyside.co.uk/event/fun-fridays-jades-general-knowledge-quiz/
END:VEVENT
BEGIN:VEVENT
DTSTART;TZID=UTC:20201008T133000
DTEND;TZID=UTC:20201008T150000
DTSTAMP:20260422T162234
CREATED:20201001T132504Z
LAST-MODIFIED:20201001T132505Z
UID:1559-1602163800-1602169200@peoplefirstmerseyside.co.uk
SUMMARY:DAVID (Dignity and Voices in Dying) Meeting
DESCRIPTION:DAVID (Dignity and Voices in Dying) Project meeting where members learn about different subjects around death and dying. We will be focusing on issues such as future planning\, consent\, wills\, funerals etc.
URL:https://peoplefirstmerseyside.co.uk/event/david-dignity-and-voices-in-dying-meeting-16/
CATEGORIES:DAVID (Dignity and Voices in Dying)
END:VEVENT
BEGIN:VEVENT
DTSTART;TZID=UTC:20201007T133000
DTEND;TZID=UTC:20201007T150000
DTSTAMP:20260422T162234
CREATED:20201001T133443Z
LAST-MODIFIED:20201001T133444Z
UID:1577-1602077400-1602082800@peoplefirstmerseyside.co.uk
SUMMARY:Passports To Good Health Meeting
DESCRIPTION:Zoom meeting to talk about how people with learning disabilities can stay healthy.  Each meeting focuses on different areas of health and health services.
URL:https://peoplefirstmerseyside.co.uk/event/passports-to-good-health-meeting-6/
CATEGORIES:Passports To Good Health
END:VEVENT
BEGIN:VEVENT
DTSTART;TZID=UTC:20201006T133000
DTEND;TZID=UTC:20201006T150000
DTSTAMP:20260422T162234
CREATED:20201001T133639Z
LAST-MODIFIED:20201001T133640Z
UID:1579-1601991000-1601996400@peoplefirstmerseyside.co.uk
SUMMARY:Merseyside Live and Learn Group Meeting - NHS England Easy Read consultation.
DESCRIPTION:Weekly meeting to discuss our Merseyside Live and Learn project run by and for people with learning disabilities. Members design\, plan and run their own programme of activities which gives them a chance to be more independent\, make new friends\, try new things and learn new skills.
URL:https://peoplefirstmerseyside.co.uk/event/merseyside-live-and-learn-group-meeting-nhs-england-easy-read-consultation/
CATEGORIES:Merseyside Live and Learn Group
END:VEVENT
BEGIN:VEVENT
DTSTART;TZID=UTC:20201005T133000
DTEND;TZID=UTC:20201005T150000
DTSTAMP:20260422T162234
CREATED:20201001T132142Z
LAST-MODIFIED:20201001T132143Z
UID:1547-1601904600-1601910000@peoplefirstmerseyside.co.uk
SUMMARY:AIM  Sing and Sign Session with Helen Andrews
DESCRIPTION:Weekly zoom session with Helen Andrews learning BSL through sing and sign. The session is part of our A.I.M. (Aspiration Inspiration Motivation) funded by ESF.
URL:https://peoplefirstmerseyside.co.uk/event/aim-sing-and-sign-session-with-helen-andrews-11/
CATEGORIES:AIM
END:VEVENT
BEGIN:VEVENT
DTSTART;TZID=UTC:20201002T133000
DTEND;TZID=UTC:20201002T150000
DTSTAMP:20260422T162234
CREATED:20201001T132833Z
LAST-MODIFIED:20201001T132834Z
UID:1567-1601645400-1601650800@peoplefirstmerseyside.co.uk
SUMMARY:Fun Fridays - Dan's Disco
DESCRIPTION:Put on your dancing shoes and join us at Dan’s Disco!
URL:https://peoplefirstmerseyside.co.uk/event/fun-fridays-dans-disco/
END:VEVENT
BEGIN:VEVENT
DTSTART;TZID=UTC:20201001T133000
DTEND;TZID=UTC:20201001T150000
DTSTAMP:20260422T162234
CREATED:20201001T132435Z
LAST-MODIFIED:20201001T132436Z
UID:1557-1601559000-1601564400@peoplefirstmerseyside.co.uk
SUMMARY:DAVID (Dignity and Voices in Dying) Meeting
DESCRIPTION:DAVID (Dignity and Voices in Dying) Project meeting where members learn about different subjects around death and dying. We will be focusing on issues such as future planning\, consent\, wills\, funerals etc.
URL:https://peoplefirstmerseyside.co.uk/event/david-dignity-and-voices-in-dying-meeting-15/
CATEGORIES:DAVID (Dignity and Voices in Dying)
END:VEVENT
BEGIN:VEVENT
DTSTART;TZID=UTC:20200928T133000
DTEND;TZID=UTC:20200928T150000
DTSTAMP:20260422T162234
CREATED:20200917T082704Z
LAST-MODIFIED:20200917T082705Z
UID:1508-1601299800-1601305200@peoplefirstmerseyside.co.uk
SUMMARY:AIM  Sing and Sign Session with Helen Andrews
DESCRIPTION:Weekly zoom session with Helen Andrews learning BSL through sing and sign. The session is part of our A.I.M. (Aspiration Inspiration Motivation) funded by ESF.
URL:https://peoplefirstmerseyside.co.uk/event/aim-sing-and-sign-session-with-helen-andrews-10/
CATEGORIES:AIM
END:VEVENT
BEGIN:VEVENT
DTSTART;TZID=UTC:20200928T091500
DTEND;TZID=UTC:20200928T104500
DTSTAMP:20260422T162234
CREATED:20200917T083152Z
LAST-MODIFIED:20200917T083153Z
UID:1510-1601284500-1601289900@peoplefirstmerseyside.co.uk
SUMMARY:Board of Directors Meeting
DESCRIPTION:First face to face meeting of our Board of Directors
URL:https://peoplefirstmerseyside.co.uk/event/board-of-directors-meeting/
LOCATION:People First Merseyside Office\, 375 Stanley Road\, Bootle\, L20 3EF
END:VEVENT
BEGIN:VEVENT
DTSTART;TZID=UTC:20200924T133000
DTEND;TZID=UTC:20200924T150000
DTSTAMP:20260422T162234
CREATED:20201001T132408Z
LAST-MODIFIED:20201001T132409Z
UID:1555-1600954200-1600959600@peoplefirstmerseyside.co.uk
SUMMARY:DAVID (Dignity and Voices in Dying) Meeting
DESCRIPTION:DAVID (Dignity and Voices in Dying) Project meeting where members learn about different subjects around death and dying. We will be focusing on issues such as future planning\, consent\, wills\, funerals etc.
URL:https://peoplefirstmerseyside.co.uk/event/david-dignity-and-voices-in-dying-meeting-14/
CATEGORIES:DAVID (Dignity and Voices in Dying)
END:VEVENT
BEGIN:VEVENT
DTSTART;TZID=UTC:20200921T133000
DTEND;TZID=UTC:20200921T150000
DTSTAMP:20260422T162234
CREATED:20200917T082609Z
LAST-MODIFIED:20200917T082609Z
UID:1506-1600695000-1600700400@peoplefirstmerseyside.co.uk
SUMMARY:AIM  Sing and Sign Session with Helen Andrews
DESCRIPTION:Weekly zoom session with Helen Andrews learning BSL through sing and sign. The session is part of our A.I.M. (Aspiration Inspiration Motivation) funded by ESF.
URL:https://peoplefirstmerseyside.co.uk/event/aim-sing-and-sign-session-with-helen-andrews-9/
CATEGORIES:AIM
END:VEVENT
BEGIN:VEVENT
DTSTART;TZID=UTC:20200917T133000
DTEND;TZID=UTC:20200917T150000
DTSTAMP:20260422T162234
CREATED:20200909T105920Z
LAST-MODIFIED:20200909T105921Z
UID:1452-1600349400-1600354800@peoplefirstmerseyside.co.uk
SUMMARY:DAVID (Dignity and Voices in Dying) Meeting
DESCRIPTION:DAVID (Dignity and Voices in Dying) Project meeting where members learn about different subjects around death and dying. We will be focusing on issues such as future planning\, consent\, wills\, funerals etc.
URL:https://peoplefirstmerseyside.co.uk/event/david-dignity-and-voices-in-dying-meeting-13/
CATEGORIES:DAVID (Dignity and Voices in Dying)
END:VEVENT
BEGIN:VEVENT
DTSTART;TZID=UTC:20200914T133000
DTEND;TZID=UTC:20200914T150000
DTSTAMP:20260422T162234
CREATED:20200909T110356Z
LAST-MODIFIED:20200909T110357Z
UID:1456-1600090200-1600095600@peoplefirstmerseyside.co.uk
SUMMARY:AIM  Sing and Sign Session with Helen Andrews
DESCRIPTION:Weekly zoom session with Helen Andrews learning BSL through sing and sign. The session is part of our A.I.M. (Aspiration Inspiration Motivation) funded by ESF.
URL:https://peoplefirstmerseyside.co.uk/event/aim-sing-and-sign-session-with-helen-andrews-8/
CATEGORIES:AIM
END:VEVENT
BEGIN:VEVENT
DTSTART;TZID=UTC:20200911T133000
DTEND;TZID=UTC:20200911T150000
DTSTAMP:20260422T162234
CREATED:20200909T105605Z
LAST-MODIFIED:20200909T105606Z
UID:1448-1599831000-1599836400@peoplefirstmerseyside.co.uk
SUMMARY:Fun Fridays - Bingo
DESCRIPTION:Join us for Bingo on Zoom!
URL:https://peoplefirstmerseyside.co.uk/event/fun-fridays-bingo-3/
END:VEVENT
END:VCALENDAR