BEGIN:VCALENDAR
VERSION:2.0
PRODID:-//People First Merseyside - ECPv6.15.14//NONSGML v1.0//EN
CALSCALE:GREGORIAN
METHOD:PUBLISH
X-WR-CALNAME:People First Merseyside
X-ORIGINAL-URL:https://peoplefirstmerseyside.co.uk
X-WR-CALDESC:Events for People First Merseyside
REFRESH-INTERVAL;VALUE=DURATION:PT1H
X-Robots-Tag:noindex
X-PUBLISHED-TTL:PT1H
BEGIN:VTIMEZONE
TZID:UTC
BEGIN:STANDARD
TZOFFSETFROM:+0000
TZOFFSETTO:+0000
TZNAME:UTC
DTSTART:20190101T000000
END:STANDARD
END:VTIMEZONE
BEGIN:VEVENT
DTSTART;TZID=UTC:20201216T133000
DTEND;TZID=UTC:20201216T150000
DTSTAMP:20260422T130946
CREATED:20201117T120259Z
LAST-MODIFIED:20201210T144327Z
UID:1752-1608125400-1608130800@peoplefirstmerseyside.co.uk
SUMMARY:Wednesday Meeting with Helen and Joanne - Meeting about 2021 Census
DESCRIPTION:At this meeting Dave from the Office of National Statistics will be joining us to tell us all about the Census in 2021.  It will be an opportunity to find out what the Census is and how we can make sure people with learning disabilities are included.
URL:https://peoplefirstmerseyside.co.uk/event/wednesday-meeting-with-helen-and-joanne-5/
CATEGORIES:Passports To Good Health
END:VEVENT
BEGIN:VEVENT
DTSTART;TZID=UTC:20201215T133000
DTEND;TZID=UTC:20201215T150000
DTSTAMP:20260422T130946
CREATED:20201210T144923Z
LAST-MODIFIED:20201210T144924Z
UID:1857-1608039000-1608044400@peoplefirstmerseyside.co.uk
SUMMARY:Sing and Sign
DESCRIPTION:Sing and Sign with Helen Andrews.  Our British Sign Language Choir will be learning how to sign a variety of popular and well know songs.
URL:https://peoplefirstmerseyside.co.uk/event/sing-and-sign-3/
CATEGORIES:Merseyside Live and Learn Group
END:VEVENT
BEGIN:VEVENT
DTSTART;TZID=UTC:20201211T133000
DTEND;TZID=UTC:20201211T150000
DTSTAMP:20260422T130946
CREATED:20201117T113505Z
LAST-MODIFIED:20201117T113506Z
UID:1722-1607693400-1607698800@peoplefirstmerseyside.co.uk
SUMMARY:Fun Fridays - Dan's Christmas Disco
DESCRIPTION:The Christmas fun continues with our Christmas disco.  Daniel will be hosting our Christmas themed disco\, with all your favourite Christmas songs.  To join us call 0151 329 2137 to get the Zoom code
URL:https://peoplefirstmerseyside.co.uk/event/fun-fridays-dans-christmas-disco/
END:VEVENT
BEGIN:VEVENT
DTSTART;TZID=UTC:20201210T133000
DTEND;TZID=UTC:20201210T150000
DTSTAMP:20260422T130946
CREATED:20201117T115221Z
LAST-MODIFIED:20201117T115221Z
UID:1736-1607607000-1607612400@peoplefirstmerseyside.co.uk
SUMMARY:DAVID (Dignity and Voices in Dying) Meeting
DESCRIPTION:DAVID (Dignity and Voices in Dying) Project meeting where members learn about different subjects around death and dying. We will be focusing on issues such as future planning\, consent\, wills\, funerals etc.
URL:https://peoplefirstmerseyside.co.uk/event/david-dignity-and-voices-in-dying-meeting-24/
CATEGORIES:DAVID (Dignity and Voices in Dying)
END:VEVENT
BEGIN:VEVENT
DTSTART;TZID=UTC:20201209T133000
DTEND;TZID=UTC:20201209T150000
DTSTAMP:20260422T130946
CREATED:20201117T120222Z
LAST-MODIFIED:20201117T120223Z
UID:1750-1607520600-1607526000@peoplefirstmerseyside.co.uk
SUMMARY:Wednesday Meeting with Helen and Joanne
DESCRIPTION:Join Helen and Joanne on Zoom to talk about a variety of issues.  We will be working on our Annual Health Check booklet and Passport to Good Health Booklet.  We will also talk about any updates to the lockdown restrictions and any issues that anyone needs help with.
URL:https://peoplefirstmerseyside.co.uk/event/wednesday-meeting-with-helen-and-joanne-4/
CATEGORIES:Passports To Good Health
END:VEVENT
BEGIN:VEVENT
DTSTART;TZID=UTC:20201208T133000
DTEND;TZID=UTC:20201208T150000
DTSTAMP:20260422T130946
CREATED:20201210T144814Z
LAST-MODIFIED:20201210T144815Z
UID:1855-1607434200-1607439600@peoplefirstmerseyside.co.uk
SUMMARY:Sing and Sign
DESCRIPTION:Sing and Sign with Helen Andrews.  Our British Sign Language Choir will be learning how to sign a variety of popular and well know songs.
URL:https://peoplefirstmerseyside.co.uk/event/sing-and-sign-2/
CATEGORIES:Merseyside Live and Learn Group
END:VEVENT
BEGIN:VEVENT
DTSTART;TZID=UTC:20201204T133000
DTEND;TZID=UTC:20201204T150000
DTSTAMP:20260422T130946
CREATED:20201117T113244Z
LAST-MODIFIED:20201117T113245Z
UID:1720-1607088600-1607094000@peoplefirstmerseyside.co.uk
SUMMARY:Fun Fridays - Jade and Emma's Christmas Quiz
DESCRIPTION:We are in December and can officially start our Christmas festivities.  Join us on Zoom for Jade and Emma’s Christmas quiz.  If you would like to join us\, call 0151 329 2137 to get our Zoom code.
URL:https://peoplefirstmerseyside.co.uk/event/fun-fridays-jade-and-emmas-christmas-quiz/
END:VEVENT
BEGIN:VEVENT
DTSTART;TZID=UTC:20201202T133000
DTEND;TZID=UTC:20201202T150000
DTSTAMP:20260422T130946
CREATED:20201117T120140Z
LAST-MODIFIED:20201117T120141Z
UID:1748-1606915800-1606921200@peoplefirstmerseyside.co.uk
SUMMARY:Wednesday Meeting with Helen and Joanne
DESCRIPTION:Join Helen and Joanne on Zoom to talk about a variety of issues.  We will be working on our Annual Health Check booklet and Passport to Good Health Booklet.  We will also talk about any updates to the lockdown restrictions and any issues that anyone needs help with.
URL:https://peoplefirstmerseyside.co.uk/event/wednesday-meeting-with-helen-and-joanne-3/
CATEGORIES:Passports To Good Health
END:VEVENT
BEGIN:VEVENT
DTSTART;TZID=UTC:20201201T133000
DTEND;TZID=UTC:20201201T150000
DTSTAMP:20260422T130946
CREATED:20201210T144630Z
LAST-MODIFIED:20201210T144631Z
UID:1853-1606829400-1606834800@peoplefirstmerseyside.co.uk
SUMMARY:Sing and Sign
DESCRIPTION:Sing and Sign with Helen Andrews.  Our British Sign Language Choir will be learning how to sign a variety of popular and well know songs.
URL:https://peoplefirstmerseyside.co.uk/event/sing-and-sign/
CATEGORIES:Merseyside Live and Learn Group
END:VEVENT
BEGIN:VEVENT
DTSTART;TZID=UTC:20201127T133000
DTEND;TZID=UTC:20201127T150000
DTSTAMP:20260422T130946
CREATED:20201117T113037Z
LAST-MODIFIED:20201117T113037Z
UID:1718-1606483800-1606489200@peoplefirstmerseyside.co.uk
SUMMARY:Fun Fridays - 2 Truths and a Lie with Jayne and Jan.
DESCRIPTION:Join us on Zoom for a game of 2 truths an a lie.  Jayne and Jan will be leading the session where we see how much we know about each other – can we tell which is a lie?  To join us for this afternoon of fun call 0151 329 2137 for the Zoom code.
URL:https://peoplefirstmerseyside.co.uk/event/fun-fridays-2-truths-and-a-lie-with-jayne-and-jan/
END:VEVENT
BEGIN:VEVENT
DTSTART;TZID=UTC:20201126T133000
DTEND;TZID=UTC:20201126T150000
DTSTAMP:20260422T130946
CREATED:20201117T115134Z
LAST-MODIFIED:20201117T115135Z
UID:1734-1606397400-1606402800@peoplefirstmerseyside.co.uk
SUMMARY:DAVID (Dignity and Voices in Dying) Meeting
DESCRIPTION:DAVID (Dignity and Voices in Dying) Project meeting where members learn about different subjects around death and dying. We will be focusing on issues such as future planning\, consent\, wills\, funerals etc.
URL:https://peoplefirstmerseyside.co.uk/event/david-dignity-and-voices-in-dying-meeting-23/
CATEGORIES:DAVID (Dignity and Voices in Dying)
END:VEVENT
BEGIN:VEVENT
DTSTART;TZID=UTC:20201125T133000
DTEND;TZID=UTC:20201125T150000
DTSTAMP:20260422T130946
CREATED:20201117T120040Z
LAST-MODIFIED:20201119T144756Z
UID:1746-1606311000-1606316400@peoplefirstmerseyside.co.uk
SUMMARY:Get Involved Group
DESCRIPTION:John O’Dwyer from Leeds University is conducting research into the Quality of Life of people with learning disabilities. He is coming to talk to the group about his research and how we can get involved.  \n\n\n\n  To join us\, call 0151 329 2137 to get a Zoom code.
URL:https://peoplefirstmerseyside.co.uk/event/get-involved-group/
CATEGORIES:Passports To Good Health
END:VEVENT
BEGIN:VEVENT
DTSTART;TZID=UTC:20201124T133000
DTEND;TZID=UTC:20201124T150000
DTSTAMP:20260422T130946
CREATED:20201117T140910Z
LAST-MODIFIED:20201117T140910Z
UID:1761-1606224600-1606230000@peoplefirstmerseyside.co.uk
SUMMARY:Merseyside Live and Learn Group Meeting - NHS England Easy Read consultation.
DESCRIPTION:Weekly meeting to discuss our Merseyside Live and Learn project run by and for people with learning disabilities. Members design\, plan and run their own programme of activities which gives them a chance to be more independent\, make new friends\, try new things and learn new skills.
URL:https://peoplefirstmerseyside.co.uk/event/merseyside-live-and-learn-group-meeting-nhs-england-easy-read-consultation-8/
CATEGORIES:Merseyside Live and Learn Group
END:VEVENT
BEGIN:VEVENT
DTSTART;TZID=UTC:20201120T133000
DTEND;TZID=UTC:20201120T150000
DTSTAMP:20260422T130946
CREATED:20201117T111821Z
LAST-MODIFIED:20201117T111822Z
UID:1716-1605879000-1605884400@peoplefirstmerseyside.co.uk
SUMMARY:Fun Fridays -Pictionary with Paul.
DESCRIPTION:Join us on Zoom for a game of Pictionary.  Paul will be doing a series of drawings and we have to guess what they are.  Should be lots of fun.  To join us\, call 0151 329 2137 to get our Zoom code.
URL:https://peoplefirstmerseyside.co.uk/event/fun-fridays-pictionary-with-paul/
END:VEVENT
BEGIN:VEVENT
DTSTART;TZID=UTC:20201119T133000
DTEND;TZID=UTC:20201119T150000
DTSTAMP:20260422T130946
CREATED:20201117T115051Z
LAST-MODIFIED:20201117T115052Z
UID:1732-1605792600-1605798000@peoplefirstmerseyside.co.uk
SUMMARY:DAVID (Dignity and Voices in Dying) Meeting
DESCRIPTION:DAVID (Dignity and Voices in Dying) Project meeting where members learn about different subjects around death and dying. We will be focusing on issues such as future planning\, consent\, wills\, funerals etc.
URL:https://peoplefirstmerseyside.co.uk/event/david-dignity-and-voices-in-dying-meeting-22/
CATEGORIES:DAVID (Dignity and Voices in Dying)
END:VEVENT
BEGIN:VEVENT
DTSTART;TZID=UTC:20201118T133000
DTEND;TZID=UTC:20201118T150000
DTSTAMP:20260422T130946
CREATED:20201117T115754Z
LAST-MODIFIED:20201117T115755Z
UID:1744-1605706200-1605711600@peoplefirstmerseyside.co.uk
SUMMARY:Wednesday Meeting with Helen and Paul
DESCRIPTION:Join Helen and Paul on Zoom to talk about a variety of issues.  We will be working on our Annual Health Check booklet and Passport to Good Health Booklet.  We will also talk about any updates to the lockdown restrictions and any issues that anyone needs help with.
URL:https://peoplefirstmerseyside.co.uk/event/wednesday-meeting-with-helen-and-paul/
CATEGORIES:Passports To Good Health
END:VEVENT
BEGIN:VEVENT
DTSTART;TZID=UTC:20201117T133000
DTEND;TZID=UTC:20201117T150000
DTSTAMP:20260422T130946
CREATED:20201117T140816Z
LAST-MODIFIED:20201117T140817Z
UID:1759-1605619800-1605625200@peoplefirstmerseyside.co.uk
SUMMARY:Merseyside Live and Learn Group Meeting - NHS England Easy Read consultation.
DESCRIPTION:Weekly meeting to discuss our Merseyside Live and Learn project run by and for people with learning disabilities. Members design\, plan and run their own programme of activities which gives them a chance to be more independent\, make new friends\, try new things and learn new skills.
URL:https://peoplefirstmerseyside.co.uk/event/merseyside-live-and-learn-group-meeting-nhs-england-easy-read-consultation-7/
CATEGORIES:Merseyside Live and Learn Group
END:VEVENT
BEGIN:VEVENT
DTSTART;TZID=UTC:20201113T133000
DTEND;TZID=UTC:20201113T150000
DTSTAMP:20260422T130946
CREATED:20201117T105037Z
LAST-MODIFIED:20201117T105038Z
UID:1714-1605274200-1605279600@peoplefirstmerseyside.co.uk
SUMMARY:Fun Friday - BINGO
DESCRIPTION:Join us on Zoom for a game of BINGO.  Contact us on 0151 329 2137 to get your Bingo card.
URL:https://peoplefirstmerseyside.co.uk/event/fun-friday-bingo/
END:VEVENT
BEGIN:VEVENT
DTSTART;TZID=UTC:20201112T133000
DTEND;TZID=UTC:20201112T150000
DTSTAMP:20260422T130946
CREATED:20201117T115013Z
LAST-MODIFIED:20201117T115014Z
UID:1730-1605187800-1605193200@peoplefirstmerseyside.co.uk
SUMMARY:DAVID (Dignity and Voices in Dying) Meeting
DESCRIPTION:DAVID (Dignity and Voices in Dying) Project meeting where members learn about different subjects around death and dying. We will be focusing on issues such as future planning\, consent\, wills\, funerals etc.
URL:https://peoplefirstmerseyside.co.uk/event/david-dignity-and-voices-in-dying-meeting-21/
CATEGORIES:DAVID (Dignity and Voices in Dying)
END:VEVENT
BEGIN:VEVENT
DTSTART;TZID=UTC:20201111T133000
DTEND;TZID=UTC:20201111T150000
DTSTAMP:20260422T130946
CREATED:20201117T115640Z
LAST-MODIFIED:20201117T115641Z
UID:1742-1605101400-1605106800@peoplefirstmerseyside.co.uk
SUMMARY:Wednesday Meeting with Helen and Joanne
DESCRIPTION:Join Helen and Joanne on Zoom to talk about a variety of issues.  We will be working on our Annual Health Check booklet and Passport to Good Health Booklet.  We will also talk about any updates to the lockdown restrictions and any issues that anyone needs help with.
URL:https://peoplefirstmerseyside.co.uk/event/wednesday-meeting-with-helen-and-joanne-2/
CATEGORIES:Passports To Good Health
END:VEVENT
BEGIN:VEVENT
DTSTART;TZID=UTC:20201110T133000
DTEND;TZID=UTC:20201110T150000
DTSTAMP:20260422T130946
CREATED:20201117T140710Z
LAST-MODIFIED:20201117T140711Z
UID:1757-1605015000-1605020400@peoplefirstmerseyside.co.uk
SUMMARY:Merseyside Live and Learn Group Meeting - NHS England Easy Read consultation.
DESCRIPTION:Weekly meeting to discuss our Merseyside Live and Learn project run by and for people with learning disabilities. Members design\, plan and run their own programme of activities which gives them a chance to be more independent\, make new friends\, try new things and learn new skills.
URL:https://peoplefirstmerseyside.co.uk/event/merseyside-live-and-learn-group-meeting-nhs-england-easy-read-consultation-6/
CATEGORIES:Merseyside Live and Learn Group
END:VEVENT
BEGIN:VEVENT
DTSTART;TZID=UTC:20201106T133000
DTEND;TZID=UTC:20201106T150000
DTSTAMP:20260422T130946
CREATED:20201117T104902Z
LAST-MODIFIED:20201117T104903Z
UID:1712-1604669400-1604674800@peoplefirstmerseyside.co.uk
SUMMARY:Fun Fridays -Jade's Get to know you quiz.
DESCRIPTION:Join us on Zoom to get to know each other better.  Jade will be hosting this fun afternoon quiz.
URL:https://peoplefirstmerseyside.co.uk/event/fun-fridays-jades-get-to-know-you-quiz/
END:VEVENT
BEGIN:VEVENT
DTSTART;TZID=UTC:20201105T133000
DTEND;TZID=UTC:20201105T150000
DTSTAMP:20260422T130946
CREATED:20201117T114915Z
LAST-MODIFIED:20201117T114916Z
UID:1728-1604583000-1604588400@peoplefirstmerseyside.co.uk
SUMMARY:DAVID (Dignity and Voices in Dying) Meeting
DESCRIPTION:DAVID (Dignity and Voices in Dying) Project meeting where members learn about different subjects around death and dying. We will be focusing on issues such as future planning\, consent\, wills\, funerals etc.
URL:https://peoplefirstmerseyside.co.uk/event/david-dignity-and-voices-in-dying-meeting-20/
CATEGORIES:DAVID (Dignity and Voices in Dying)
END:VEVENT
BEGIN:VEVENT
DTSTART;TZID=UTC:20201104T133000
DTEND;TZID=UTC:20201104T150000
DTSTAMP:20260422T130946
CREATED:20201117T115546Z
LAST-MODIFIED:20201117T115548Z
UID:1740-1604496600-1604502000@peoplefirstmerseyside.co.uk
SUMMARY:Wednesday Meeting with Helen and Joanne
DESCRIPTION:Join Helen and Joanne on Zoom to talk about a variety of issues.  We will be working on our Annual Health Check booklet and Passport to Good Health Booklet.  We will also talk about any updates to the lockdown restrictions and any issues that anyone needs help with.
URL:https://peoplefirstmerseyside.co.uk/event/wednesday-meeting-with-helen-and-joanne/
CATEGORIES:Passports To Good Health
END:VEVENT
BEGIN:VEVENT
DTSTART;TZID=UTC:20201103T133000
DTEND;TZID=UTC:20201103T150000
DTSTAMP:20260422T130946
CREATED:20201117T140529Z
LAST-MODIFIED:20201117T140607Z
UID:1755-1604410200-1604415600@peoplefirstmerseyside.co.uk
SUMMARY:Merseyside Live and Learn Group Meeting - NHS England Easy Read consultation.
DESCRIPTION:Weekly meeting to discuss our Merseyside Live and Learn project run by and for people with learning disabilities. Members design\, plan and run their own programme of activities which gives them a chance to be more independent\, make new friends\, try new things and learn new skills.
URL:https://peoplefirstmerseyside.co.uk/event/merseyside-live-and-learn-group-meeting-nhs-england-easy-read-consultation-5/
CATEGORIES:Merseyside Live and Learn Group
END:VEVENT
BEGIN:VEVENT
DTSTART;TZID=UTC:20201030T133000
DTEND;TZID=UTC:20201030T150000
DTSTAMP:20260422T130946
CREATED:20201001T133322Z
LAST-MODIFIED:20201001T133323Z
UID:1575-1604064600-1604070000@peoplefirstmerseyside.co.uk
SUMMARY:Fun Fridays -Halloween fun.
DESCRIPTION:Join us on Zoom for a spooky afternoon with Paul’s Halloween quiz and some Halloween themed tunes.
URL:https://peoplefirstmerseyside.co.uk/event/fun-fridays-halloween-fun/
END:VEVENT
BEGIN:VEVENT
DTSTART;TZID=UTC:20201029T133000
DTEND;TZID=UTC:20201029T150000
DTSTAMP:20260422T130946
CREATED:20201001T132619Z
LAST-MODIFIED:20201001T132620Z
UID:1565-1603978200-1603983600@peoplefirstmerseyside.co.uk
SUMMARY:DAVID (Dignity and Voices in Dying) Meeting
DESCRIPTION:DAVID (Dignity and Voices in Dying) Project meeting where members learn about different subjects around death and dying. We will be focusing on issues such as future planning\, consent\, wills\, funerals etc.
URL:https://peoplefirstmerseyside.co.uk/event/david-dignity-and-voices-in-dying-meeting-19/
CATEGORIES:DAVID (Dignity and Voices in Dying)
END:VEVENT
BEGIN:VEVENT
DTSTART;TZID=UTC:20201028T133000
DTEND;TZID=UTC:20201028T150000
DTSTAMP:20260422T130946
CREATED:20201001T134017Z
LAST-MODIFIED:20201001T134018Z
UID:1591-1603891800-1603897200@peoplefirstmerseyside.co.uk
SUMMARY:Passports To Good Health Meeting
DESCRIPTION:Zoom meeting to talk about how people with learning disabilities can stay healthy.  Each meeting focuses on different areas of health and health services.
URL:https://peoplefirstmerseyside.co.uk/event/passports-to-good-health-meeting-9/
CATEGORIES:Passports To Good Health
END:VEVENT
BEGIN:VEVENT
DTSTART;TZID=UTC:20201027T133000
DTEND;TZID=UTC:20201027T150000
DTSTAMP:20260422T130946
CREATED:20201001T133816Z
LAST-MODIFIED:20201001T133817Z
UID:1585-1603805400-1603810800@peoplefirstmerseyside.co.uk
SUMMARY:Merseyside Live and Learn Group Meeting - NHS England Easy Read consultation.
DESCRIPTION:Weekly meeting to discuss our Merseyside Live and Learn project run by and for people with learning disabilities. Members design\, plan and run their own programme of activities which gives them a chance to be more independent\, make new friends\, try new things and learn new skills.
URL:https://peoplefirstmerseyside.co.uk/event/merseyside-live-and-learn-group-meeting-nhs-england-easy-read-consultation-4/
CATEGORIES:Merseyside Live and Learn Group
END:VEVENT
BEGIN:VEVENT
DTSTART;TZID=UTC:20201023T133000
DTEND;TZID=UTC:20201023T150000
DTSTAMP:20260422T130946
CREATED:20201001T133151Z
LAST-MODIFIED:20201001T133152Z
UID:1573-1603459800-1603465200@peoplefirstmerseyside.co.uk
SUMMARY:Fun Fridays - Relaxation
DESCRIPTION:Join us on Zoom for a wonderful afternoon of relaxation with Jayne and Jan.
URL:https://peoplefirstmerseyside.co.uk/event/fun-fridays-relaxation/
END:VEVENT
END:VCALENDAR