BEGIN:VCALENDAR
VERSION:2.0
PRODID:-//People First Merseyside - ECPv6.15.14//NONSGML v1.0//EN
CALSCALE:GREGORIAN
METHOD:PUBLISH
X-WR-CALNAME:People First Merseyside
X-ORIGINAL-URL:https://peoplefirstmerseyside.co.uk
X-WR-CALDESC:Events for People First Merseyside
REFRESH-INTERVAL;VALUE=DURATION:PT1H
X-Robots-Tag:noindex
X-PUBLISHED-TTL:PT1H
BEGIN:VTIMEZONE
TZID:UTC
BEGIN:STANDARD
TZOFFSETFROM:+0000
TZOFFSETTO:+0000
TZNAME:UTC
DTSTART:20200101T000000
END:STANDARD
END:VTIMEZONE
BEGIN:VEVENT
DTSTART;TZID=UTC:20210216T133000
DTEND;TZID=UTC:20210216T150000
DTSTAMP:20260422T081520
CREATED:20201210T145237Z
LAST-MODIFIED:20201210T145238Z
UID:1871-1613482200-1613487600@peoplefirstmerseyside.co.uk
SUMMARY:Sing and Sign
DESCRIPTION:Sing and Sign with Helen Andrews.  Our British Sign Language Choir will be learning how to sign a variety of popular and well know songs.
URL:https://peoplefirstmerseyside.co.uk/event/sing-and-sign-10/
CATEGORIES:Merseyside Live and Learn Group
END:VEVENT
BEGIN:VEVENT
DTSTART;TZID=UTC:20210215T130000
DTEND;TZID=UTC:20210215T150000
DTSTAMP:20260422T081520
CREATED:20210125T155203Z
LAST-MODIFIED:20210125T155204Z
UID:2103-1613394000-1613401200@peoplefirstmerseyside.co.uk
SUMMARY:AIM - BSL Session 3
DESCRIPTION:British Sign Language Course\,  – Frontline 101.
URL:https://peoplefirstmerseyside.co.uk/event/aim-bsl-session-3/
END:VEVENT
BEGIN:VEVENT
DTSTART;TZID=UTC:20210212T133000
DTEND;TZID=UTC:20210212T150000
DTSTAMP:20260422T081520
CREATED:20201210T150036Z
LAST-MODIFIED:20210125T152118Z
UID:1895-1613136600-1613142000@peoplefirstmerseyside.co.uk
SUMMARY:Fun Friday - Siobhan's 'Would you Rather?' game
DESCRIPTION:Join us for an afternoon of fun and games.  The perfect way to end a busy week. To join us\, call 0151 329 2137 to get our Zoom code.
URL:https://peoplefirstmerseyside.co.uk/event/fun-friday-5/
END:VEVENT
BEGIN:VEVENT
DTSTART;TZID=UTC:20210211T133000
DTEND;TZID=UTC:20210211T150000
DTSTAMP:20260422T081520
CREATED:20210125T153636Z
LAST-MODIFIED:20210125T153638Z
UID:2085-1613050200-1613055600@peoplefirstmerseyside.co.uk
SUMMARY:DAVID (Dignity and Voices in Dying) Meeting
DESCRIPTION:DAVID (Dignity and Voices in Dying) Project meeting where members learn about different subjects around death and dying. We will be focusing on issues such as future planning\, consent\, wills\, funerals etc.
URL:https://peoplefirstmerseyside.co.uk/event/david-dignity-and-voices-in-dying-meeting-29/
CATEGORIES:DAVID (Dignity and Voices in Dying)
END:VEVENT
BEGIN:VEVENT
DTSTART;TZID=UTC:20210210T133000
DTEND;TZID=UTC:20210210T150000
DTSTAMP:20260422T081520
CREATED:20210125T152858Z
LAST-MODIFIED:20210125T152859Z
UID:2062-1612963800-1612969200@peoplefirstmerseyside.co.uk
SUMMARY:Wednesday Meeting with Helen and Joanne - Cancer Red Flag Training
DESCRIPTION:At this meeting we will hold refresher training for the Cancer Red Flag roadshows
URL:https://peoplefirstmerseyside.co.uk/event/wednesday-meeting-with-helen-and-joanne-cancer-red-flag-training-2/
CATEGORIES:Passports To Good Health
END:VEVENT
BEGIN:VEVENT
DTSTART;TZID=UTC:20210209T133000
DTEND;TZID=UTC:20210209T150000
DTSTAMP:20260422T081520
CREATED:20201210T145219Z
LAST-MODIFIED:20201210T145220Z
UID:1869-1612877400-1612882800@peoplefirstmerseyside.co.uk
SUMMARY:Sing and Sign
DESCRIPTION:Sing and Sign with Helen Andrews.  Our British Sign Language Choir will be learning how to sign a variety of popular and well know songs.
URL:https://peoplefirstmerseyside.co.uk/event/sing-and-sign-9/
CATEGORIES:Merseyside Live and Learn Group
END:VEVENT
BEGIN:VEVENT
DTSTART;TZID=UTC:20210208T130000
DTEND;TZID=UTC:20210208T150000
DTSTAMP:20260422T081520
CREATED:20210125T155123Z
LAST-MODIFIED:20210125T155124Z
UID:2101-1612789200-1612796400@peoplefirstmerseyside.co.uk
SUMMARY:AIM - BSL Session 2
DESCRIPTION:British Sign Language Course\,  – Frontline 101.
URL:https://peoplefirstmerseyside.co.uk/event/aim-bsl-session-2/
END:VEVENT
BEGIN:VEVENT
DTSTART;TZID=UTC:20210205T133000
DTEND;TZID=UTC:20210205T150000
DTSTAMP:20260422T081520
CREATED:20201210T150012Z
LAST-MODIFIED:20210125T152026Z
UID:1893-1612531800-1612537200@peoplefirstmerseyside.co.uk
SUMMARY:Fun Friday - Jayne's insect quiz
DESCRIPTION:Join us for an afternoon of fun and games.  The perfect way to end a busy week. To join us\, call 0151 329 2137 to get our Zoom code.
URL:https://peoplefirstmerseyside.co.uk/event/fun-friday-4/
END:VEVENT
BEGIN:VEVENT
DTSTART;TZID=UTC:20210204T133000
DTEND;TZID=UTC:20210204T150000
DTSTAMP:20260422T081520
CREATED:20210125T153559Z
LAST-MODIFIED:20210125T153600Z
UID:2083-1612445400-1612450800@peoplefirstmerseyside.co.uk
SUMMARY:DAVID (Dignity and Voices in Dying) Meeting
DESCRIPTION:DAVID (Dignity and Voices in Dying) Project meeting where members learn about different subjects around death and dying. We will be focusing on issues such as future planning\, consent\, wills\, funerals etc.
URL:https://peoplefirstmerseyside.co.uk/event/david-dignity-and-voices-in-dying-meeting-28/
CATEGORIES:DAVID (Dignity and Voices in Dying)
END:VEVENT
BEGIN:VEVENT
DTSTART;TZID=UTC:20210203T133000
DTEND;TZID=UTC:20210203T150000
DTSTAMP:20260422T081520
CREATED:20210125T152758Z
LAST-MODIFIED:20210125T152758Z
UID:2060-1612359000-1612364400@peoplefirstmerseyside.co.uk
SUMMARY:Wednesday Meeting with Helen and Joanne - Cancer Red Flag Training
DESCRIPTION:At this meeting we will hold refresher training for the Cancer Red Flag roadshows
URL:https://peoplefirstmerseyside.co.uk/event/wednesday-meeting-with-helen-and-joanne-cancer-red-flag-training/
CATEGORIES:Passports To Good Health
END:VEVENT
BEGIN:VEVENT
DTSTART;TZID=UTC:20210202T133000
DTEND;TZID=UTC:20210202T150000
DTSTAMP:20260422T081520
CREATED:20201210T145157Z
LAST-MODIFIED:20201210T145157Z
UID:1867-1612272600-1612278000@peoplefirstmerseyside.co.uk
SUMMARY:Sing and Sign
DESCRIPTION:Sing and Sign with Helen Andrews.  Our British Sign Language Choir will be learning how to sign a variety of popular and well know songs.
URL:https://peoplefirstmerseyside.co.uk/event/sing-and-sign-8/
CATEGORIES:Merseyside Live and Learn Group
END:VEVENT
BEGIN:VEVENT
DTSTART;TZID=UTC:20210201T130000
DTEND;TZID=UTC:20210201T150000
DTSTAMP:20260422T081520
CREATED:20210125T155035Z
LAST-MODIFIED:20210125T155036Z
UID:2099-1612184400-1612191600@peoplefirstmerseyside.co.uk
SUMMARY:AIM - BSL Session 1
DESCRIPTION:British Sign Language Course\,  – Frontline 101.
URL:https://peoplefirstmerseyside.co.uk/event/aim-bsl-session-1/
END:VEVENT
BEGIN:VEVENT
DTSTART;TZID=UTC:20210129T133000
DTEND;TZID=UTC:20210129T150000
DTSTAMP:20260422T081520
CREATED:20201210T145946Z
LAST-MODIFIED:20210125T151736Z
UID:1891-1611927000-1611932400@peoplefirstmerseyside.co.uk
SUMMARY:Fun Friday -.Jade's Funny Pictures game
DESCRIPTION:Join us for an afternoon of fun and games.  The perfect way to end a busy week. To join us\, call 0151 329 2137 to get our Zoom code.
URL:https://peoplefirstmerseyside.co.uk/event/fun-friday-3/
END:VEVENT
BEGIN:VEVENT
DTSTART;TZID=UTC:20210128T133000
DTEND;TZID=UTC:20210128T150000
DTSTAMP:20260422T081520
CREATED:20210125T153519Z
LAST-MODIFIED:20210125T153520Z
UID:2081-1611840600-1611846000@peoplefirstmerseyside.co.uk
SUMMARY:DAVID (Dignity and Voices in Dying) Meeting
DESCRIPTION:DAVID (Dignity and Voices in Dying) Project meeting where members learn about different subjects around death and dying. We will be focusing on issues such as future planning\, consent\, wills\, funerals etc.
URL:https://peoplefirstmerseyside.co.uk/event/david-dignity-and-voices-in-dying-meeting-27/
CATEGORIES:DAVID (Dignity and Voices in Dying)
END:VEVENT
BEGIN:VEVENT
DTSTART;TZID=UTC:20210127T133000
DTEND;TZID=UTC:20210127T150000
DTSTAMP:20260422T081520
CREATED:20210125T152525Z
LAST-MODIFIED:20210125T152727Z
UID:2055-1611754200-1611759600@peoplefirstmerseyside.co.uk
SUMMARY:Wednesday Meeting with Helen and Joanne - Cancer Red Flag Training
DESCRIPTION:At this meeting we will hold refresher training for the Cancer Red Flag roadshows
URL:https://peoplefirstmerseyside.co.uk/event/wednesday-meeting-with-helen-and-joanne-passport-to-good-health-booklet-text-review-2/
CATEGORIES:Passports To Good Health
END:VEVENT
BEGIN:VEVENT
DTSTART;TZID=UTC:20210127T100000
DTEND;TZID=UTC:20210127T120000
DTSTAMP:20260422T081520
CREATED:20220622T102513Z
LAST-MODIFIED:20220622T102514Z
UID:3848-1611741600-1611748800@peoplefirstmerseyside.co.uk
SUMMARY:Southport & Formby community champions meeting
DESCRIPTION:
URL:https://peoplefirstmerseyside.co.uk/event/southport-formby-community-champions-meeting/
END:VEVENT
BEGIN:VEVENT
DTSTART;TZID=UTC:20210126T133000
DTEND;TZID=UTC:20210126T150000
DTSTAMP:20260422T081520
CREATED:20201210T145136Z
LAST-MODIFIED:20201210T145137Z
UID:1865-1611667800-1611673200@peoplefirstmerseyside.co.uk
SUMMARY:Sing and Sign
DESCRIPTION:Sing and Sign with Helen Andrews.  Our British Sign Language Choir will be learning how to sign a variety of popular and well know songs.
URL:https://peoplefirstmerseyside.co.uk/event/sing-and-sign-7/
CATEGORIES:Merseyside Live and Learn Group
END:VEVENT
BEGIN:VEVENT
DTSTART;TZID=UTC:20210125T130000
DTEND;TZID=UTC:20210125T160000
DTSTAMP:20260422T081520
CREATED:20210125T151535Z
LAST-MODIFIED:20210125T151537Z
UID:2044-1611579600-1611590400@peoplefirstmerseyside.co.uk
SUMMARY:AIM - Deaf Awareness with MSDP
DESCRIPTION:An session to raise awareness of what it is like to be deaf.  This session will also act as an introduction to British Sign Language (BSL)
URL:https://peoplefirstmerseyside.co.uk/event/aim-deaf-awareness-with-msdp/
END:VEVENT
BEGIN:VEVENT
DTSTART;TZID=UTC:20210122T133000
DTEND;TZID=UTC:20210122T150000
DTSTAMP:20260422T081520
CREATED:20201210T145919Z
LAST-MODIFIED:20210125T151821Z
UID:1889-1611322200-1611327600@peoplefirstmerseyside.co.uk
SUMMARY:Fun Friday -.Jade's Emoji Quiz
DESCRIPTION:Join us for an afternoon of fun and games.  The perfect way to end a busy week. To join us\, call 0151 329 2137 to get our Zoom code.
URL:https://peoplefirstmerseyside.co.uk/event/fun-friday-2/
END:VEVENT
BEGIN:VEVENT
DTSTART;TZID=UTC:20210121T133000
DTEND;TZID=UTC:20210121T150000
DTSTAMP:20260422T081520
CREATED:20210125T153436Z
LAST-MODIFIED:20210125T153437Z
UID:2079-1611235800-1611241200@peoplefirstmerseyside.co.uk
SUMMARY:DAVID (Dignity and Voices in Dying) Meeting
DESCRIPTION:DAVID (Dignity and Voices in Dying) Project meeting where members learn about different subjects around death and dying. We will be focusing on issues such as future planning\, consent\, wills\, funerals etc.
URL:https://peoplefirstmerseyside.co.uk/event/david-dignity-and-voices-in-dying-meeting-26/
CATEGORIES:DAVID (Dignity and Voices in Dying)
END:VEVENT
BEGIN:VEVENT
DTSTART;TZID=UTC:20210119T133000
DTEND;TZID=UTC:20210119T150000
DTSTAMP:20260422T081520
CREATED:20201210T145117Z
LAST-MODIFIED:20201210T145118Z
UID:1863-1611063000-1611068400@peoplefirstmerseyside.co.uk
SUMMARY:Sing and Sign
DESCRIPTION:Sing and Sign with Helen Andrews.  Our British Sign Language Choir will be learning how to sign a variety of popular and well know songs.
URL:https://peoplefirstmerseyside.co.uk/event/sing-and-sign-6/
CATEGORIES:Merseyside Live and Learn Group
END:VEVENT
BEGIN:VEVENT
DTSTART;TZID=UTC:20210118T133000
DTEND;TZID=UTC:20210118T150000
DTSTAMP:20260422T081520
CREATED:20210125T151345Z
LAST-MODIFIED:20210125T151346Z
UID:2042-1610976600-1610982000@peoplefirstmerseyside.co.uk
SUMMARY:Merseyside Live and Learn Group
DESCRIPTION:
URL:https://peoplefirstmerseyside.co.uk/event/merseyside-live-and-learn-group-3/
END:VEVENT
BEGIN:VEVENT
DTSTART;TZID=UTC:20210115T133000
DTEND;TZID=UTC:20210115T150000
DTSTAMP:20260422T081520
CREATED:20201210T145851Z
LAST-MODIFIED:20210125T151915Z
UID:1887-1610717400-1610722800@peoplefirstmerseyside.co.uk
SUMMARY:Fun Friday - BINGO with Keith
DESCRIPTION:Join us for an afternoon of fun and games.  The perfect way to end a busy week. To join us\, call 0151 329 2137 to get our Zoom code.
URL:https://peoplefirstmerseyside.co.uk/event/fun-friday/
END:VEVENT
BEGIN:VEVENT
DTSTART;TZID=UTC:20210114T133000
DTEND;TZID=UTC:20210114T150000
DTSTAMP:20260422T081520
CREATED:20201201T143002Z
LAST-MODIFIED:20201201T143003Z
UID:1832-1610631000-1610636400@peoplefirstmerseyside.co.uk
SUMMARY:DAVID Project
DESCRIPTION:Task and Finish Group
URL:https://peoplefirstmerseyside.co.uk/event/david-project-2/
END:VEVENT
BEGIN:VEVENT
DTSTART;TZID=UTC:20210113T133000
DTEND;TZID=UTC:20210113T150000
DTSTAMP:20260422T081520
CREATED:20210125T152428Z
LAST-MODIFIED:20210125T152429Z
UID:2053-1610544600-1610550000@peoplefirstmerseyside.co.uk
SUMMARY:Wednesday Meeting with Helen and Joanne - Passport To Good Health Booklet text review
DESCRIPTION:At this meeting we will review the text we have produced for the Passport to Good Health Booklet
URL:https://peoplefirstmerseyside.co.uk/event/wednesday-meeting-with-helen-and-joanne-passport-to-good-health-booklet-text-review/
CATEGORIES:Passports To Good Health
END:VEVENT
BEGIN:VEVENT
DTSTART;TZID=UTC:20210113T133000
DTEND;TZID=UTC:20210113T150000
DTSTAMP:20260422T081520
CREATED:20201119T153416Z
LAST-MODIFIED:20201119T153417Z
UID:1807-1610544600-1610550000@peoplefirstmerseyside.co.uk
SUMMARY:Get Involved Group
DESCRIPTION:Tracey Forshaw who is the LeDeR Local Area Contact for  South Sefton\, Southport and Formby and Liverpool CCGs is coming to talk to the group about the LeDeR reviews Annual Report.  \n\n\n\nIf you would like to attend the meeting please contact us on 0151 329 2137 for the zoom code
URL:https://peoplefirstmerseyside.co.uk/event/get-involved-group-2/
END:VEVENT
BEGIN:VEVENT
DTSTART;TZID=UTC:20210112T133000
DTEND;TZID=UTC:20210112T150000
DTSTAMP:20260422T081520
CREATED:20201210T145042Z
LAST-MODIFIED:20201210T145043Z
UID:1861-1610458200-1610463600@peoplefirstmerseyside.co.uk
SUMMARY:Sing and Sign
DESCRIPTION:Sing and Sign with Helen Andrews.  Our British Sign Language Choir will be learning how to sign a variety of popular and well know songs.
URL:https://peoplefirstmerseyside.co.uk/event/sing-and-sign-5/
CATEGORIES:Merseyside Live and Learn Group
END:VEVENT
BEGIN:VEVENT
DTSTART;TZID=UTC:20210111T133000
DTEND;TZID=UTC:20210111T150000
DTSTAMP:20260422T081520
CREATED:20210125T151300Z
LAST-MODIFIED:20210125T151301Z
UID:2040-1610371800-1610377200@peoplefirstmerseyside.co.uk
SUMMARY:Merseyside Live and Learn Group
DESCRIPTION:
URL:https://peoplefirstmerseyside.co.uk/event/merseyside-live-and-learn-group-2/
END:VEVENT
BEGIN:VEVENT
DTSTART;TZID=UTC:20210108T133000
DTEND;TZID=UTC:20210108T150000
DTSTAMP:20260422T081520
CREATED:20201210T145734Z
LAST-MODIFIED:20210125T151953Z
UID:1885-1610112600-1610118000@peoplefirstmerseyside.co.uk
SUMMARY:Fun Friday -Classic photographs.
DESCRIPTION:Our First Fun Friday of 2021 will be your chance to share your classic photographs with us and tell us the story behind them. To join us\, call 0151 329 2137 to get our Zoom code.
URL:https://peoplefirstmerseyside.co.uk/event/fun-friday-classic-photographs/
END:VEVENT
BEGIN:VEVENT
DTSTART;TZID=UTC:20210107T133000
DTEND;TZID=UTC:20210107T150000
DTSTAMP:20260422T081520
CREATED:20201201T142650Z
LAST-MODIFIED:20201201T142650Z
UID:1830-1610026200-1610031600@peoplefirstmerseyside.co.uk
SUMMARY:DAVID Project
DESCRIPTION:Task and Finish Group
URL:https://peoplefirstmerseyside.co.uk/event/david-project/
CATEGORIES:DAVID (Dignity and Voices in Dying)
END:VEVENT
END:VCALENDAR