BEGIN:VCALENDAR
VERSION:2.0
PRODID:-//People First Merseyside - ECPv6.15.14//NONSGML v1.0//EN
CALSCALE:GREGORIAN
METHOD:PUBLISH
X-ORIGINAL-URL:https://peoplefirstmerseyside.co.uk
X-WR-CALDESC:Events for People First Merseyside
REFRESH-INTERVAL;VALUE=DURATION:PT1H
X-Robots-Tag:noindex
X-PUBLISHED-TTL:PT1H
BEGIN:VTIMEZONE
TZID:UTC
BEGIN:STANDARD
TZOFFSETFROM:+0000
TZOFFSETTO:+0000
TZNAME:UTC
DTSTART:20200101T000000
END:STANDARD
END:VTIMEZONE
BEGIN:VEVENT
DTSTART;TZID=UTC:20210322T130000
DTEND;TZID=UTC:20210322T150000
DTSTAMP:20260422T045556
CREATED:20210125T155439Z
LAST-MODIFIED:20210125T155441Z
UID:2113-1616418000-1616425200@peoplefirstmerseyside.co.uk
SUMMARY:AIM - BSL Session 8
DESCRIPTION:British Sign Language Course\,  – Frontline 101.
URL:https://peoplefirstmerseyside.co.uk/event/aim-bsl-session-8/
END:VEVENT
BEGIN:VEVENT
DTSTART;TZID=UTC:20210319T133000
DTEND;TZID=UTC:20210319T150000
DTSTAMP:20260422T045556
CREATED:20201210T150239Z
LAST-MODIFIED:20201210T150240Z
UID:1905-1616160600-1616166000@peoplefirstmerseyside.co.uk
SUMMARY:Fun Friday -.
DESCRIPTION:Join us for an afternoon of fun and games.  The perfect way to end a busy week. To join us\, call 0151 329 2137 to get our Zoom code.
URL:https://peoplefirstmerseyside.co.uk/event/fun-friday-10/
END:VEVENT
BEGIN:VEVENT
DTSTART;TZID=UTC:20210318T133000
DTEND;TZID=UTC:20210318T150000
DTSTAMP:20260422T045556
CREATED:20210125T154523Z
LAST-MODIFIED:20210125T154524Z
UID:2095-1616074200-1616079600@peoplefirstmerseyside.co.uk
SUMMARY:DAVID (Dignity and Voices in Dying) Meeting
DESCRIPTION:DAVID (Dignity and Voices in Dying) Project meeting where members learn about different subjects around death and dying. We will be focusing on issues such as future planning\, consent\, wills\, funerals etc.
URL:https://peoplefirstmerseyside.co.uk/event/david-dignity-and-voices-in-dying-meeting-34/
CATEGORIES:DAVID (Dignity and Voices in Dying)
END:VEVENT
BEGIN:VEVENT
DTSTART;TZID=UTC:20210317T133000
DTEND;TZID=UTC:20210317T150000
DTSTAMP:20260422T045556
CREATED:20210125T153143Z
LAST-MODIFIED:20210125T153144Z
UID:2072-1615987800-1615993200@peoplefirstmerseyside.co.uk
SUMMARY:Wednesday Meeting with Helen and Joanne
DESCRIPTION:
URL:https://peoplefirstmerseyside.co.uk/event/wednesday-meeting-with-helen-and-joanne-10/
CATEGORIES:Passports To Good Health
END:VEVENT
BEGIN:VEVENT
DTSTART;TZID=UTC:20210316T133000
DTEND;TZID=UTC:20210316T150000
DTSTAMP:20260422T045556
CREATED:20201210T145357Z
LAST-MODIFIED:20201210T145358Z
UID:1879-1615901400-1615906800@peoplefirstmerseyside.co.uk
SUMMARY:Sing and Sign
DESCRIPTION:Sing and Sign with Helen Andrews.  Our British Sign Language Choir will be learning how to sign a variety of popular and well know songs.
URL:https://peoplefirstmerseyside.co.uk/event/sing-and-sign-14/
CATEGORIES:Merseyside Live and Learn Group
END:VEVENT
BEGIN:VEVENT
DTSTART;TZID=UTC:20210315T130000
DTEND;TZID=UTC:20210315T150000
DTSTAMP:20260422T045556
CREATED:20210125T155410Z
LAST-MODIFIED:20210125T155411Z
UID:2111-1615813200-1615820400@peoplefirstmerseyside.co.uk
SUMMARY:AIM - BSL Session 7
DESCRIPTION:British Sign Language Course\,  – Frontline 101.
URL:https://peoplefirstmerseyside.co.uk/event/aim-bsl-session-7/
END:VEVENT
BEGIN:VEVENT
DTSTART;TZID=UTC:20210312T133000
DTEND;TZID=UTC:20210312T150000
DTSTAMP:20260422T045556
CREATED:20201210T150218Z
LAST-MODIFIED:20201210T150218Z
UID:1903-1615555800-1615561200@peoplefirstmerseyside.co.uk
SUMMARY:Fun Friday -.
DESCRIPTION:Join us for an afternoon of fun and games.  The perfect way to end a busy week. To join us\, call 0151 329 2137 to get our Zoom code.
URL:https://peoplefirstmerseyside.co.uk/event/fun-friday-9/
END:VEVENT
BEGIN:VEVENT
DTSTART;TZID=UTC:20210311T133000
DTEND;TZID=UTC:20210311T150000
DTSTAMP:20260422T045556
CREATED:20210125T154456Z
LAST-MODIFIED:20210125T154457Z
UID:2093-1615469400-1615474800@peoplefirstmerseyside.co.uk
SUMMARY:DAVID (Dignity and Voices in Dying) Meeting
DESCRIPTION:DAVID (Dignity and Voices in Dying) Project meeting where members learn about different subjects around death and dying. We will be focusing on issues such as future planning\, consent\, wills\, funerals etc.
URL:https://peoplefirstmerseyside.co.uk/event/david-dignity-and-voices-in-dying-meeting-33/
CATEGORIES:DAVID (Dignity and Voices in Dying)
END:VEVENT
BEGIN:VEVENT
DTSTART;TZID=UTC:20210310T133000
DTEND;TZID=UTC:20210310T150000
DTSTAMP:20260422T045556
CREATED:20210125T153118Z
LAST-MODIFIED:20210125T153119Z
UID:2070-1615383000-1615388400@peoplefirstmerseyside.co.uk
SUMMARY:Wednesday Meeting with Helen and Joanne
DESCRIPTION:
URL:https://peoplefirstmerseyside.co.uk/event/wednesday-meeting-with-helen-and-joanne-9/
CATEGORIES:Passports To Good Health
END:VEVENT
BEGIN:VEVENT
DTSTART;TZID=UTC:20210309T133000
DTEND;TZID=UTC:20210309T150000
DTSTAMP:20260422T045556
CREATED:20201210T145338Z
LAST-MODIFIED:20201210T145339Z
UID:1877-1615296600-1615302000@peoplefirstmerseyside.co.uk
SUMMARY:Sing and Sign
DESCRIPTION:Sing and Sign with Helen Andrews.  Our British Sign Language Choir will be learning how to sign a variety of popular and well know songs.
URL:https://peoplefirstmerseyside.co.uk/event/sing-and-sign-13/
CATEGORIES:Merseyside Live and Learn Group
END:VEVENT
BEGIN:VEVENT
DTSTART;TZID=UTC:20210308T130000
DTEND;TZID=UTC:20210308T150000
DTSTAMP:20260422T045556
CREATED:20210125T155339Z
LAST-MODIFIED:20210125T155340Z
UID:2109-1615208400-1615215600@peoplefirstmerseyside.co.uk
SUMMARY:AIM - BSL Session 6
DESCRIPTION:British Sign Language Course\,  – Frontline 101.
URL:https://peoplefirstmerseyside.co.uk/event/aim-bsl-session-6/
END:VEVENT
BEGIN:VEVENT
DTSTART;TZID=UTC:20210305T133000
DTEND;TZID=UTC:20210305T150000
DTSTAMP:20260422T045556
CREATED:20201210T150149Z
LAST-MODIFIED:20201210T150150Z
UID:1901-1614951000-1614956400@peoplefirstmerseyside.co.uk
SUMMARY:Fun Friday -.
DESCRIPTION:Join us for an afternoon of fun and games.  The perfect way to end a busy week. To join us\, call 0151 329 2137 to get our Zoom code.
URL:https://peoplefirstmerseyside.co.uk/event/fun-friday-8/
END:VEVENT
BEGIN:VEVENT
DTSTART;TZID=UTC:20210304T133000
DTEND;TZID=UTC:20210304T150000
DTSTAMP:20260422T045556
CREATED:20210125T153812Z
LAST-MODIFIED:20210125T153813Z
UID:2091-1614864600-1614870000@peoplefirstmerseyside.co.uk
SUMMARY:DAVID (Dignity and Voices in Dying) Meeting
DESCRIPTION:DAVID (Dignity and Voices in Dying) Project meeting where members learn about different subjects around death and dying. We will be focusing on issues such as future planning\, consent\, wills\, funerals etc.
URL:https://peoplefirstmerseyside.co.uk/event/david-dignity-and-voices-in-dying-meeting-32/
CATEGORIES:DAVID (Dignity and Voices in Dying)
END:VEVENT
BEGIN:VEVENT
DTSTART;TZID=UTC:20210303T133000
DTEND;TZID=UTC:20210303T150000
DTSTAMP:20260422T045556
CREATED:20210125T153054Z
LAST-MODIFIED:20210125T153055Z
UID:2068-1614778200-1614783600@peoplefirstmerseyside.co.uk
SUMMARY:Wednesday Meeting with Helen and Joanne
DESCRIPTION:
URL:https://peoplefirstmerseyside.co.uk/event/wednesday-meeting-with-helen-and-joanne-8/
CATEGORIES:Passports To Good Health
END:VEVENT
BEGIN:VEVENT
DTSTART;TZID=UTC:20210302T133000
DTEND;TZID=UTC:20210302T150000
DTSTAMP:20260422T045556
CREATED:20201210T145319Z
LAST-MODIFIED:20201210T145320Z
UID:1875-1614691800-1614697200@peoplefirstmerseyside.co.uk
SUMMARY:Sing and Sign
DESCRIPTION:Sing and Sign with Helen Andrews.  Our British Sign Language Choir will be learning how to sign a variety of popular and well know songs.
URL:https://peoplefirstmerseyside.co.uk/event/sing-and-sign-12/
CATEGORIES:Merseyside Live and Learn Group
END:VEVENT
BEGIN:VEVENT
DTSTART;TZID=UTC:20210301T130000
DTEND;TZID=UTC:20210301T150000
DTSTAMP:20260422T045556
CREATED:20210125T155312Z
LAST-MODIFIED:20210125T155313Z
UID:2107-1614603600-1614610800@peoplefirstmerseyside.co.uk
SUMMARY:AIM - BSL Session 5
DESCRIPTION:British Sign Language Course\,  – Frontline 101.
URL:https://peoplefirstmerseyside.co.uk/event/aim-bsl-session-5/
END:VEVENT
BEGIN:VEVENT
DTSTART;TZID=UTC:20210226T133000
DTEND;TZID=UTC:20210226T150000
DTSTAMP:20260422T045556
CREATED:20201210T150124Z
LAST-MODIFIED:20201210T150125Z
UID:1899-1614346200-1614351600@peoplefirstmerseyside.co.uk
SUMMARY:Fun Friday -.
DESCRIPTION:Join us for an afternoon of fun and games.  The perfect way to end a busy week. To join us\, call 0151 329 2137 to get our Zoom code.
URL:https://peoplefirstmerseyside.co.uk/event/fun-friday-7/
END:VEVENT
BEGIN:VEVENT
DTSTART;TZID=UTC:20210225T133000
DTEND;TZID=UTC:20210225T150000
DTSTAMP:20260422T045556
CREATED:20210125T153740Z
LAST-MODIFIED:20210125T153741Z
UID:2089-1614259800-1614265200@peoplefirstmerseyside.co.uk
SUMMARY:DAVID (Dignity and Voices in Dying) Meeting
DESCRIPTION:DAVID (Dignity and Voices in Dying) Project meeting where members learn about different subjects around death and dying. We will be focusing on issues such as future planning\, consent\, wills\, funerals etc.
URL:https://peoplefirstmerseyside.co.uk/event/david-dignity-and-voices-in-dying-meeting-31/
CATEGORIES:DAVID (Dignity and Voices in Dying)
END:VEVENT
BEGIN:VEVENT
DTSTART;TZID=UTC:20210224T133000
DTEND;TZID=UTC:20210224T150000
DTSTAMP:20260422T045556
CREATED:20210125T153021Z
LAST-MODIFIED:20210125T153022Z
UID:2066-1614173400-1614178800@peoplefirstmerseyside.co.uk
SUMMARY:Wednesday Meeting with Helen and Joanne
DESCRIPTION:
URL:https://peoplefirstmerseyside.co.uk/event/wednesday-meeting-with-helen-and-joanne-7/
CATEGORIES:Passports To Good Health
END:VEVENT
BEGIN:VEVENT
DTSTART;TZID=UTC:20210223T133000
DTEND;TZID=UTC:20210223T150000
DTSTAMP:20260422T045556
CREATED:20201210T145256Z
LAST-MODIFIED:20201210T145257Z
UID:1873-1614087000-1614092400@peoplefirstmerseyside.co.uk
SUMMARY:Sing and Sign
DESCRIPTION:Sing and Sign with Helen Andrews.  Our British Sign Language Choir will be learning how to sign a variety of popular and well know songs.
URL:https://peoplefirstmerseyside.co.uk/event/sing-and-sign-11/
CATEGORIES:Merseyside Live and Learn Group
END:VEVENT
BEGIN:VEVENT
DTSTART;TZID=UTC:20210222T130000
DTEND;TZID=UTC:20210222T150000
DTSTAMP:20260422T045556
CREATED:20210125T155235Z
LAST-MODIFIED:20210125T155236Z
UID:2105-1613998800-1614006000@peoplefirstmerseyside.co.uk
SUMMARY:AIM - BSL Session 4
DESCRIPTION:British Sign Language Course\,  – Frontline 101.
URL:https://peoplefirstmerseyside.co.uk/event/aim-bsl-session-4/
END:VEVENT
BEGIN:VEVENT
DTSTART;TZID=UTC:20210219T133000
DTEND;TZID=UTC:20210219T150000
DTSTAMP:20260422T045556
CREATED:20201210T150059Z
LAST-MODIFIED:20201210T150100Z
UID:1897-1613741400-1613746800@peoplefirstmerseyside.co.uk
SUMMARY:Fun Friday -.
DESCRIPTION:Join us for an afternoon of fun and games.  The perfect way to end a busy week. To join us\, call 0151 329 2137 to get our Zoom code.
URL:https://peoplefirstmerseyside.co.uk/event/fun-friday-6/
END:VEVENT
BEGIN:VEVENT
DTSTART;TZID=UTC:20210218T133000
DTEND;TZID=UTC:20210218T150000
DTSTAMP:20260422T045556
CREATED:20210125T153706Z
LAST-MODIFIED:20210125T153707Z
UID:2087-1613655000-1613660400@peoplefirstmerseyside.co.uk
SUMMARY:DAVID (Dignity and Voices in Dying) Meeting
DESCRIPTION:DAVID (Dignity and Voices in Dying) Project meeting where members learn about different subjects around death and dying. We will be focusing on issues such as future planning\, consent\, wills\, funerals etc.
URL:https://peoplefirstmerseyside.co.uk/event/david-dignity-and-voices-in-dying-meeting-30/
CATEGORIES:DAVID (Dignity and Voices in Dying)
END:VEVENT
BEGIN:VEVENT
DTSTART;TZID=UTC:20210217T133000
DTEND;TZID=UTC:20210217T150000
DTSTAMP:20260422T045556
CREATED:20210125T152954Z
LAST-MODIFIED:20210125T152955Z
UID:2064-1613568600-1613574000@peoplefirstmerseyside.co.uk
SUMMARY:Wednesday Meeting with Helen and Joanne
DESCRIPTION:
URL:https://peoplefirstmerseyside.co.uk/event/wednesday-meeting-with-helen-and-joanne-6/
CATEGORIES:Passports To Good Health
END:VEVENT
BEGIN:VEVENT
DTSTART;TZID=UTC:20210216T133000
DTEND;TZID=UTC:20210216T150000
DTSTAMP:20260422T045556
CREATED:20201210T145237Z
LAST-MODIFIED:20201210T145238Z
UID:1871-1613482200-1613487600@peoplefirstmerseyside.co.uk
SUMMARY:Sing and Sign
DESCRIPTION:Sing and Sign with Helen Andrews.  Our British Sign Language Choir will be learning how to sign a variety of popular and well know songs.
URL:https://peoplefirstmerseyside.co.uk/event/sing-and-sign-10/
CATEGORIES:Merseyside Live and Learn Group
END:VEVENT
BEGIN:VEVENT
DTSTART;TZID=UTC:20210215T130000
DTEND;TZID=UTC:20210215T150000
DTSTAMP:20260422T045556
CREATED:20210125T155203Z
LAST-MODIFIED:20210125T155204Z
UID:2103-1613394000-1613401200@peoplefirstmerseyside.co.uk
SUMMARY:AIM - BSL Session 3
DESCRIPTION:British Sign Language Course\,  – Frontline 101.
URL:https://peoplefirstmerseyside.co.uk/event/aim-bsl-session-3/
END:VEVENT
BEGIN:VEVENT
DTSTART;TZID=UTC:20210212T133000
DTEND;TZID=UTC:20210212T150000
DTSTAMP:20260422T045556
CREATED:20201210T150036Z
LAST-MODIFIED:20210125T152118Z
UID:1895-1613136600-1613142000@peoplefirstmerseyside.co.uk
SUMMARY:Fun Friday - Siobhan's 'Would you Rather?' game
DESCRIPTION:Join us for an afternoon of fun and games.  The perfect way to end a busy week. To join us\, call 0151 329 2137 to get our Zoom code.
URL:https://peoplefirstmerseyside.co.uk/event/fun-friday-5/
END:VEVENT
BEGIN:VEVENT
DTSTART;TZID=UTC:20210211T133000
DTEND;TZID=UTC:20210211T150000
DTSTAMP:20260422T045556
CREATED:20210125T153636Z
LAST-MODIFIED:20210125T153638Z
UID:2085-1613050200-1613055600@peoplefirstmerseyside.co.uk
SUMMARY:DAVID (Dignity and Voices in Dying) Meeting
DESCRIPTION:DAVID (Dignity and Voices in Dying) Project meeting where members learn about different subjects around death and dying. We will be focusing on issues such as future planning\, consent\, wills\, funerals etc.
URL:https://peoplefirstmerseyside.co.uk/event/david-dignity-and-voices-in-dying-meeting-29/
CATEGORIES:DAVID (Dignity and Voices in Dying)
END:VEVENT
BEGIN:VEVENT
DTSTART;TZID=UTC:20210210T133000
DTEND;TZID=UTC:20210210T150000
DTSTAMP:20260422T045556
CREATED:20210125T152858Z
LAST-MODIFIED:20210125T152859Z
UID:2062-1612963800-1612969200@peoplefirstmerseyside.co.uk
SUMMARY:Wednesday Meeting with Helen and Joanne - Cancer Red Flag Training
DESCRIPTION:At this meeting we will hold refresher training for the Cancer Red Flag roadshows
URL:https://peoplefirstmerseyside.co.uk/event/wednesday-meeting-with-helen-and-joanne-cancer-red-flag-training-2/
CATEGORIES:Passports To Good Health
END:VEVENT
BEGIN:VEVENT
DTSTART;TZID=UTC:20210209T133000
DTEND;TZID=UTC:20210209T150000
DTSTAMP:20260422T045556
CREATED:20201210T145219Z
LAST-MODIFIED:20201210T145220Z
UID:1869-1612877400-1612882800@peoplefirstmerseyside.co.uk
SUMMARY:Sing and Sign
DESCRIPTION:Sing and Sign with Helen Andrews.  Our British Sign Language Choir will be learning how to sign a variety of popular and well know songs.
URL:https://peoplefirstmerseyside.co.uk/event/sing-and-sign-9/
CATEGORIES:Merseyside Live and Learn Group
END:VEVENT
END:VCALENDAR