BEGIN:VCALENDAR
VERSION:2.0
PRODID:-//People First Merseyside - ECPv6.15.14//NONSGML v1.0//EN
CALSCALE:GREGORIAN
METHOD:PUBLISH
X-WR-CALNAME:People First Merseyside
X-ORIGINAL-URL:https://peoplefirstmerseyside.co.uk
X-WR-CALDESC:Events for People First Merseyside
REFRESH-INTERVAL;VALUE=DURATION:PT1H
X-Robots-Tag:noindex
X-PUBLISHED-TTL:PT1H
BEGIN:VTIMEZONE
TZID:UTC
BEGIN:STANDARD
TZOFFSETFROM:+0000
TZOFFSETTO:+0000
TZNAME:UTC
DTSTART:20200101T000000
END:STANDARD
END:VTIMEZONE
BEGIN:VEVENT
DTSTART;TZID=UTC:20210907T130000
DTEND;TZID=UTC:20210907T150000
DTSTAMP:20260421T195051
CREATED:20210907T105230Z
LAST-MODIFIED:20210907T105231Z
UID:3011-1631019600-1631026800@peoplefirstmerseyside.co.uk
SUMMARY:Live and Learn
DESCRIPTION:Back to the basics (office skills)
URL:https://peoplefirstmerseyside.co.uk/event/live-and-learn-8/
END:VEVENT
BEGIN:VEVENT
DTSTART;TZID=UTC:20210902T100000
DTEND;TZID=UTC:20210902T150000
DTSTAMP:20260421T195051
CREATED:20210702T134538Z
LAST-MODIFIED:20210727T092240Z
UID:2682-1630576800-1630594800@peoplefirstmerseyside.co.uk
SUMMARY:The DAVID Project
DESCRIPTION:Bereavement session with David Corkhill in the morning. Death Cafe in the afternoon.
URL:https://peoplefirstmerseyside.co.uk/event/the-david-project-12/
END:VEVENT
BEGIN:VEVENT
DTSTART;TZID=UTC:20210901T100000
DTEND;TZID=UTC:20210901T113000
DTSTAMP:20260421T195051
CREATED:20210706T092133Z
LAST-MODIFIED:20210706T092134Z
UID:2720-1630490400-1630495800@peoplefirstmerseyside.co.uk
SUMMARY:Sing and Sign with Helen Andrews
DESCRIPTION:Sing and Sign Choir session 7
URL:https://peoplefirstmerseyside.co.uk/event/sing-and-sign-with-helen-andrews-7/
LOCATION:People First Merseyside Office\, 375 Stanley Road\, Bootle\, L20 3EF
END:VEVENT
BEGIN:VEVENT
DTSTART;TZID=UTC:20210826T133000
DTEND;TZID=UTC:20210826T150000
DTSTAMP:20260421T195051
CREATED:20210702T134143Z
LAST-MODIFIED:20210727T085851Z
UID:2680-1629984600-1629990000@peoplefirstmerseyside.co.uk
SUMMARY:The DAVID Project
DESCRIPTION:Zoom meeting with Sefton carers.
URL:https://peoplefirstmerseyside.co.uk/event/the-david-project-11/
END:VEVENT
BEGIN:VEVENT
DTSTART;TZID=UTC:20210826T013000
DTEND;TZID=UTC:20210826T150000
DTSTAMP:20260421T195051
CREATED:20210727T141833Z
LAST-MODIFIED:20210727T141834Z
UID:2901-1629941400-1629990000@peoplefirstmerseyside.co.uk
SUMMARY:DAVID
DESCRIPTION:zoom with carers
URL:https://peoplefirstmerseyside.co.uk/event/david/
END:VEVENT
BEGIN:VEVENT
DTSTART;TZID=UTC:20210825T100000
DTEND;TZID=UTC:20210825T113000
DTSTAMP:20260421T195051
CREATED:20210706T091632Z
LAST-MODIFIED:20210706T091633Z
UID:2716-1629885600-1629891000@peoplefirstmerseyside.co.uk
SUMMARY:Sing and Sign with Helen Andrews
DESCRIPTION:Sing and Sign Choir session 6
URL:https://peoplefirstmerseyside.co.uk/event/sing-and-sign-with-helen-andrews-6/
LOCATION:People First Merseyside Office\, 375 Stanley Road\, Bootle\, L20 3EF
END:VEVENT
BEGIN:VEVENT
DTSTART;TZID=UTC:20210805T100000
DTEND;TZID=UTC:20210805T120000
DTSTAMP:20260421T195051
CREATED:20210706T094528Z
LAST-MODIFIED:20210706T094530Z
UID:2765-1628157600-1628164800@peoplefirstmerseyside.co.uk
SUMMARY:Red Flag/ Lung Health Roadshow in Huddersfield
DESCRIPTION:Members delivering Red Flag and Lung Health Roadshow in Huddersfield
URL:https://peoplefirstmerseyside.co.uk/event/red-flag-lung-health-roadshow-in-huddersfield/
END:VEVENT
BEGIN:VEVENT
DTSTART;TZID=UTC:20210805T100000
DTEND;TZID=UTC:20210805T150000
DTSTAMP:20260421T195051
CREATED:20210702T134050Z
LAST-MODIFIED:20210727T090016Z
UID:2678-1628157600-1628175600@peoplefirstmerseyside.co.uk
SUMMARY:The DAVID Project
DESCRIPTION:Meeting with the BuzzHub from St Helens
URL:https://peoplefirstmerseyside.co.uk/event/the-david-project-10/
END:VEVENT
BEGIN:VEVENT
DTSTART;TZID=UTC:20210804T100000
DTEND;TZID=UTC:20210804T113000
DTSTAMP:20260421T195051
CREATED:20210706T091544Z
LAST-MODIFIED:20210706T091545Z
UID:2714-1628071200-1628076600@peoplefirstmerseyside.co.uk
SUMMARY:Sing and Sign with Helen Andrews
DESCRIPTION:Sing and Sign Choir session 5
URL:https://peoplefirstmerseyside.co.uk/event/sing-and-sign-with-helen-andrews-5/
LOCATION:People First Merseyside Office\, 375 Stanley Road\, Bootle\, L20 3EF
END:VEVENT
BEGIN:VEVENT
DTSTART;TZID=UTC:20210729T133000
DTEND;TZID=UTC:20210729T150000
DTSTAMP:20260421T195051
CREATED:20210702T133944Z
LAST-MODIFIED:20210727T084722Z
UID:2676-1627565400-1627570800@peoplefirstmerseyside.co.uk
SUMMARY:The DAVID Project
DESCRIPTION:Zoom meeting with Sefton carers
URL:https://peoplefirstmerseyside.co.uk/event/the-david-project-9/
END:VEVENT
BEGIN:VEVENT
DTSTART;TZID=UTC:20210729T100000
DTEND;TZID=UTC:20210730T150000
DTSTAMP:20260421T195051
CREATED:20210706T094221Z
LAST-MODIFIED:20210706T094228Z
UID:2761-1627552800-1627657200@peoplefirstmerseyside.co.uk
SUMMARY:Red Flag /Lung Health Roadshows in Rotherham
DESCRIPTION:Members delivering Red Flag and Lung Health Roadshow
URL:https://peoplefirstmerseyside.co.uk/event/red-flag-lung-health-roadshow-in-rotherham/
END:VEVENT
BEGIN:VEVENT
DTSTART;TZID=UTC:20210728T100000
DTEND;TZID=UTC:20210728T113000
DTSTAMP:20260421T195051
CREATED:20210706T091426Z
LAST-MODIFIED:20210706T091427Z
UID:2712-1627466400-1627471800@peoplefirstmerseyside.co.uk
SUMMARY:Sing and Sign with Helen Andrews
DESCRIPTION:Sing and Sign Choir session 4
URL:https://peoplefirstmerseyside.co.uk/event/sing-and-sign-with-helen-andrews-4/
LOCATION:People First Merseyside Office\, 375 Stanley Road\, Bootle\, L20 3EF
END:VEVENT
BEGIN:VEVENT
DTSTART;TZID=UTC:20210722T133000
DTEND;TZID=UTC:20210722T150000
DTSTAMP:20260421T195051
CREATED:20210702T133838Z
LAST-MODIFIED:20210702T133839Z
UID:2674-1626960600-1626966000@peoplefirstmerseyside.co.uk
SUMMARY:The DAVID Project
DESCRIPTION:
URL:https://peoplefirstmerseyside.co.uk/event/the-david-project-8/
END:VEVENT
BEGIN:VEVENT
DTSTART;TZID=UTC:20210722T103000
DTEND;TZID=UTC:20210722T123000
DTSTAMP:20260421T195051
CREATED:20210706T094021Z
LAST-MODIFIED:20210706T094322Z
UID:2758-1626949800-1626957000@peoplefirstmerseyside.co.uk
SUMMARY:Red Flag/ Lungs Roadshow in Bradford
DESCRIPTION:Members delivering Red Flag and Lung Health Roadshow
URL:https://peoplefirstmerseyside.co.uk/event/red-flag-lungs-roadshow/
END:VEVENT
BEGIN:VEVENT
DTSTART;TZID=UTC:20210721T100000
DTEND;TZID=UTC:20210721T113000
DTSTAMP:20260421T195051
CREATED:20210706T091340Z
LAST-MODIFIED:20210706T091340Z
UID:2708-1626861600-1626867000@peoplefirstmerseyside.co.uk
SUMMARY:Sing and Sign with Helen Andrews
DESCRIPTION:Sing and Sign Choir session 3
URL:https://peoplefirstmerseyside.co.uk/event/sing-and-sign-with-helen-andrews-3/
LOCATION:People First Merseyside Office\, 375 Stanley Road\, Bootle\, L20 3EF
END:VEVENT
BEGIN:VEVENT
DTSTART;TZID=UTC:20210719T130000
DTEND;TZID=UTC:20210719T150000
DTSTAMP:20260421T195051
CREATED:20210706T094532Z
LAST-MODIFIED:20210706T094533Z
UID:2767-1626699600-1626706800@peoplefirstmerseyside.co.uk
SUMMARY:Live and Learn
DESCRIPTION:
URL:https://peoplefirstmerseyside.co.uk/event/live-and-learn-7/
END:VEVENT
BEGIN:VEVENT
DTSTART;TZID=UTC:20210719T130000
DTEND;TZID=UTC:20210719T150000
DTSTAMP:20260421T195051
CREATED:20210706T094413Z
LAST-MODIFIED:20210706T094414Z
UID:2759-1626699600-1626706800@peoplefirstmerseyside.co.uk
SUMMARY:Live and Learn
DESCRIPTION:
URL:https://peoplefirstmerseyside.co.uk/event/live-and-learn-6/
END:VEVENT
BEGIN:VEVENT
DTSTART;TZID=UTC:20210715T133000
DTEND;TZID=UTC:20210715T150000
DTSTAMP:20260421T195051
CREATED:20210702T133728Z
LAST-MODIFIED:20210702T133729Z
UID:2672-1626355800-1626361200@peoplefirstmerseyside.co.uk
SUMMARY:The DAVID Project
DESCRIPTION:
URL:https://peoplefirstmerseyside.co.uk/event/the-david-project-7/
END:VEVENT
BEGIN:VEVENT
DTSTART;TZID=UTC:20210714T100000
DTEND;TZID=UTC:20210714T113000
DTSTAMP:20260421T195051
CREATED:20210706T091254Z
LAST-MODIFIED:20210706T091255Z
UID:2709-1626256800-1626262200@peoplefirstmerseyside.co.uk
SUMMARY:Sing and Sign with Helen Andrews
DESCRIPTION:Sing and Sign Choir session 2
URL:https://peoplefirstmerseyside.co.uk/event/sing-and-sign-with-helen-andrews-2/
LOCATION:People First Merseyside Office\, 375 Stanley Road\, Bootle\, L20 3EF
END:VEVENT
BEGIN:VEVENT
DTSTART;TZID=UTC:20210713T130000
DTEND;TZID=UTC:20210713T150000
DTSTAMP:20260421T195051
CREATED:20210706T092614Z
LAST-MODIFIED:20210706T093522Z
UID:2736-1626181200-1626188400@peoplefirstmerseyside.co.uk
SUMMARY:Live and Learn
DESCRIPTION:
URL:https://peoplefirstmerseyside.co.uk/event/live-and-learn-5/
END:VEVENT
BEGIN:VEVENT
DTSTART;TZID=UTC:20210712T130000
DTEND;TZID=UTC:20210712T150000
DTSTAMP:20260421T195051
CREATED:20210706T092344Z
LAST-MODIFIED:20210706T092345Z
UID:2725-1626094800-1626102000@peoplefirstmerseyside.co.uk
SUMMARY:Live and Learn
DESCRIPTION:
URL:https://peoplefirstmerseyside.co.uk/event/live-and-learn-4/
END:VEVENT
BEGIN:VEVENT
DTSTART;TZID=UTC:20210708T100000
DTEND;TZID=UTC:20210708T150000
DTSTAMP:20260421T195051
CREATED:20210702T133532Z
LAST-MODIFIED:20210702T133607Z
UID:2670-1625738400-1625756400@peoplefirstmerseyside.co.uk
SUMMARY:The David Project
DESCRIPTION:The DAVID Project will be welcoming the BuzzHub from St Helens.
URL:https://peoplefirstmerseyside.co.uk/event/the-david-project-6/
END:VEVENT
BEGIN:VEVENT
DTSTART;TZID=UTC:20210707T100000
DTEND;TZID=UTC:20210707T113000
DTSTAMP:20260421T195051
CREATED:20210706T091142Z
LAST-MODIFIED:20210706T091143Z
UID:2705-1625652000-1625657400@peoplefirstmerseyside.co.uk
SUMMARY:Sing and Sign with Helen Andrews
DESCRIPTION:Sing and Sign Choir session 1
URL:https://peoplefirstmerseyside.co.uk/event/sing-and-sign-with-helen-andrews/
LOCATION:People First Merseyside Office\, 375 Stanley Road\, Bootle\, L20 3EF
END:VEVENT
BEGIN:VEVENT
DTSTART;TZID=UTC:20210706T130000
DTEND;TZID=UTC:20210706T150000
DTSTAMP:20260421T195051
CREATED:20210706T092127Z
LAST-MODIFIED:20210706T092128Z
UID:2719-1625576400-1625583600@peoplefirstmerseyside.co.uk
SUMMARY:Live and Learn
DESCRIPTION:
URL:https://peoplefirstmerseyside.co.uk/event/live-and-learn-3/
CATEGORIES:Merseyside Live and Learn Group,Sefton
END:VEVENT
BEGIN:VEVENT
DTSTART;TZID=UTC:20210624T133000
DTEND;TZID=UTC:20210624T150000
DTSTAMP:20260421T195051
CREATED:20210512T101943Z
LAST-MODIFIED:20210512T101944Z
UID:2475-1624541400-1624546800@peoplefirstmerseyside.co.uk
SUMMARY:The DAVID Project
DESCRIPTION:
URL:https://peoplefirstmerseyside.co.uk/event/the-david-project-5/
END:VEVENT
BEGIN:VEVENT
DTSTART;TZID=UTC:20210623T133000
DTEND;TZID=UTC:20210623T150000
DTSTAMP:20260421T195051
CREATED:20210615T122949Z
LAST-MODIFIED:20210617T103051Z
UID:2570-1624455000-1624460400@peoplefirstmerseyside.co.uk
SUMMARY:People First Merseyside Prize Ceremony
DESCRIPTION:We will be awarding prizes to our members for various lockdown activities we held such as quizzes\, games\, etc. and for generally being lockdown stars!
URL:https://peoplefirstmerseyside.co.uk/event/people-first-merseyside-prize-ceremony/
LOCATION:People First Merseyside Office\, 375 Stanley Road\, Bootle\, L20 3EF
CATEGORIES:Merseyside Live and Learn Group,Sefton
END:VEVENT
BEGIN:VEVENT
DTSTART;TZID=UTC:20210622T130000
DTEND;TZID=UTC:20210622T150000
DTSTAMP:20260421T195051
CREATED:20210614T140828Z
LAST-MODIFIED:20210614T140829Z
UID:2568-1624366800-1624374000@peoplefirstmerseyside.co.uk
SUMMARY:Live and Learn
DESCRIPTION:
URL:https://peoplefirstmerseyside.co.uk/event/live-and-learn-2/
END:VEVENT
BEGIN:VEVENT
DTSTART;TZID=UTC:20210621T130000
DTEND;TZID=UTC:20210621T150000
DTSTAMP:20260421T195051
CREATED:20210614T140543Z
LAST-MODIFIED:20210614T140544Z
UID:2566-1624280400-1624287600@peoplefirstmerseyside.co.uk
SUMMARY:Live and Learn
DESCRIPTION:
URL:https://peoplefirstmerseyside.co.uk/event/live-and-learn/
END:VEVENT
BEGIN:VEVENT
DTSTART;TZID=UTC:20210617T133000
DTEND;TZID=UTC:20210617T150000
DTSTAMP:20260421T195051
CREATED:20210512T101820Z
LAST-MODIFIED:20210512T101821Z
UID:2473-1623936600-1623942000@peoplefirstmerseyside.co.uk
SUMMARY:The DAVID Project
DESCRIPTION:
URL:https://peoplefirstmerseyside.co.uk/event/the-david-project-4/
END:VEVENT
BEGIN:VEVENT
DTSTART;TZID=UTC:20210614T103000
DTEND;TZID=UTC:20210614T123000
DTSTAMP:20260421T195051
CREATED:20210514T122227Z
LAST-MODIFIED:20210514T122228Z
UID:2513-1623666600-1623673800@peoplefirstmerseyside.co.uk
SUMMARY:Red Flag Roadshow
DESCRIPTION:People First Merseyside members will be delivering our NHS England funded training to other people with learning disabilities.
URL:https://peoplefirstmerseyside.co.uk/event/red-flag-roadshow-2/
LOCATION:Belle Vue Suite\, \,\, Belle Vue Mills\, Skipton\, BD23 1PL
END:VEVENT
END:VCALENDAR