BEGIN:VCALENDAR
VERSION:2.0
PRODID:-//People First Merseyside - ECPv6.15.14//NONSGML v1.0//EN
CALSCALE:GREGORIAN
METHOD:PUBLISH
X-WR-CALNAME:People First Merseyside
X-ORIGINAL-URL:https://peoplefirstmerseyside.co.uk
X-WR-CALDESC:Events for People First Merseyside
REFRESH-INTERVAL;VALUE=DURATION:PT1H
X-Robots-Tag:noindex
X-PUBLISHED-TTL:PT1H
BEGIN:VTIMEZONE
TZID:UTC
BEGIN:STANDARD
TZOFFSETFROM:+0000
TZOFFSETTO:+0000
TZNAME:UTC
DTSTART:20200101T000000
END:STANDARD
END:VTIMEZONE
BEGIN:VEVENT
DTSTART;TZID=UTC:20211005T100000
DTEND;TZID=UTC:20211005T120000
DTSTAMP:20260421T164725
CREATED:20211004T100634Z
LAST-MODIFIED:20211004T100635Z
UID:3200-1633428000-1633435200@peoplefirstmerseyside.co.uk
SUMMARY:Team Leaders Admin
DESCRIPTION:
URL:https://peoplefirstmerseyside.co.uk/event/team-leaders-admin/
END:VEVENT
BEGIN:VEVENT
DTSTART;TZID=UTC:20211004T130000
DTEND;TZID=UTC:20211004T150000
DTSTAMP:20260421T164725
CREATED:20210920T092509Z
LAST-MODIFIED:20210920T092510Z
UID:3080-1633352400-1633359600@peoplefirstmerseyside.co.uk
SUMMARY:Live and learn - Back to basics
DESCRIPTION:
URL:https://peoplefirstmerseyside.co.uk/event/live-and-learn-back-to-basics-6/
CATEGORIES:Merseyside Live and Learn Group
END:VEVENT
BEGIN:VEVENT
DTSTART;TZID=UTC:20210930T133000
DTEND;TZID=UTC:20210930T150000
DTSTAMP:20260421T164725
CREATED:20210702T135004Z
LAST-MODIFIED:20210727T085355Z
UID:2690-1633008600-1633014000@peoplefirstmerseyside.co.uk
SUMMARY:The DAVID Project
DESCRIPTION:Zoom meeting with Sefton carers.
URL:https://peoplefirstmerseyside.co.uk/event/the-david-project-16/
END:VEVENT
BEGIN:VEVENT
DTSTART;TZID=UTC:20210929T100000
DTEND;TZID=UTC:20210929T113000
DTSTAMP:20260421T164725
CREATED:20210706T092445Z
LAST-MODIFIED:20210706T092446Z
UID:2732-1632909600-1632915000@peoplefirstmerseyside.co.uk
SUMMARY:Sing and Sign with Helen Andrews
DESCRIPTION:Sing and Sign Choir session 11
URL:https://peoplefirstmerseyside.co.uk/event/sing-and-sign-with-helen-andrews-11/
LOCATION:People First Merseyside Office\, 375 Stanley Road\, Bootle\, L20 3EF
END:VEVENT
BEGIN:VEVENT
DTSTART;TZID=UTC:20210928T130000
DTEND;TZID=UTC:20210928T150000
DTSTAMP:20260421T164725
CREATED:20210920T090923Z
LAST-MODIFIED:20210920T090923Z
UID:3076-1632834000-1632841200@peoplefirstmerseyside.co.uk
SUMMARY:Live and learn - Back to basics
DESCRIPTION:
URL:https://peoplefirstmerseyside.co.uk/event/live-and-learn-back-to-basics-4/
CATEGORIES:Merseyside Live and Learn Group
END:VEVENT
BEGIN:VEVENT
DTSTART;TZID=UTC:20210927T130000
DTEND;TZID=UTC:20210927T150000
DTSTAMP:20260421T164725
CREATED:20210920T090736Z
LAST-MODIFIED:20210920T090737Z
UID:3074-1632747600-1632754800@peoplefirstmerseyside.co.uk
SUMMARY:Live and learn - Back to basics
DESCRIPTION:Office training
URL:https://peoplefirstmerseyside.co.uk/event/live-and-learn-back-to-basics-3/
CATEGORIES:Merseyside Live and Learn Group
END:VEVENT
BEGIN:VEVENT
DTSTART;TZID=UTC:20210923T100000
DTEND;TZID=UTC:20210923T150000
DTSTAMP:20260421T164725
CREATED:20210702T134857Z
LAST-MODIFIED:20210727T085424Z
UID:2688-1632391200-1632409200@peoplefirstmerseyside.co.uk
SUMMARY:The DAVID Project
DESCRIPTION:
URL:https://peoplefirstmerseyside.co.uk/event/the-david-project-15/
END:VEVENT
BEGIN:VEVENT
DTSTART;TZID=UTC:20210922T100000
DTEND;TZID=UTC:20210922T113000
DTSTAMP:20260421T164725
CREATED:20210706T092402Z
LAST-MODIFIED:20210706T092403Z
UID:2729-1632304800-1632310200@peoplefirstmerseyside.co.uk
SUMMARY:Sing and Sign with Helen Andrews
DESCRIPTION:Sing and Sign Choir session 10
URL:https://peoplefirstmerseyside.co.uk/event/sing-and-sign-with-helen-andrews-10/
LOCATION:People First Merseyside Office\, 375 Stanley Road\, Bootle\, L20 3EF
END:VEVENT
BEGIN:VEVENT
DTSTART;TZID=UTC:20210921T130000
DTEND;TZID=UTC:20210921T150000
DTSTAMP:20260421T164725
CREATED:20210920T090131Z
LAST-MODIFIED:20210920T090132Z
UID:3072-1632229200-1632236400@peoplefirstmerseyside.co.uk
SUMMARY:Live and learn - Back to basics
DESCRIPTION:
URL:https://peoplefirstmerseyside.co.uk/event/live-and-learn-back-to-basics-2/
CATEGORIES:Merseyside Live and Learn Group
END:VEVENT
BEGIN:VEVENT
DTSTART;TZID=UTC:20210920T140000
DTEND;TZID=UTC:20210920T150000
DTSTAMP:20260421T164725
CREATED:20210920T085757Z
LAST-MODIFIED:20210920T085758Z
UID:3069-1632146400-1632150000@peoplefirstmerseyside.co.uk
SUMMARY:Live and learn - Back to basics
DESCRIPTION:Office training
URL:https://peoplefirstmerseyside.co.uk/event/live-and-learn-back-to-basics/
END:VEVENT
BEGIN:VEVENT
DTSTART;TZID=UTC:20210920T130000
DTEND;TZID=UTC:20210920T140000
DTSTAMP:20260421T164725
CREATED:20210920T085419Z
LAST-MODIFIED:20210920T085420Z
UID:3065-1632142800-1632146400@peoplefirstmerseyside.co.uk
SUMMARY:Diary meeting
DESCRIPTION:
URL:https://peoplefirstmerseyside.co.uk/event/diary-meeting/
END:VEVENT
BEGIN:VEVENT
DTSTART;TZID=UTC:20210917T133000
DTEND;TZID=UTC:20210917T153000
DTSTAMP:20260421T164725
CREATED:20210706T103537Z
LAST-MODIFIED:20210706T103538Z
UID:2780-1631885400-1631892600@peoplefirstmerseyside.co.uk
SUMMARY:Red Flag/Lung Health Roadshow in Selby
DESCRIPTION:
URL:https://peoplefirstmerseyside.co.uk/event/red-flag-lung-health-roadshow-in-selby/
END:VEVENT
BEGIN:VEVENT
DTSTART;TZID=UTC:20210917T093000
DTEND;TZID=UTC:20210917T113000
DTSTAMP:20260421T164725
CREATED:20210706T103424Z
LAST-MODIFIED:20210706T103425Z
UID:2778-1631871000-1631878200@peoplefirstmerseyside.co.uk
SUMMARY:Red Flag/ Lung Health Roadshow in York
DESCRIPTION:
URL:https://peoplefirstmerseyside.co.uk/event/red-flag-lung-health-roadshow-in-york/
END:VEVENT
BEGIN:VEVENT
DTSTART;TZID=UTC:20210916T130000
DTEND;TZID=UTC:20210916T150000
DTSTAMP:20260421T164725
CREATED:20210706T103306Z
LAST-MODIFIED:20210706T103307Z
UID:2776-1631797200-1631804400@peoplefirstmerseyside.co.uk
SUMMARY:Red Flag/Lung Health Roadshow in Harrogate
DESCRIPTION:
URL:https://peoplefirstmerseyside.co.uk/event/red-flag-lung-health-roadshow-in-harrogate/
END:VEVENT
BEGIN:VEVENT
DTSTART;TZID=UTC:20210916T100000
DTEND;TZID=UTC:20210916T150000
DTSTAMP:20260421T164725
CREATED:20210702T134756Z
LAST-MODIFIED:20210727T085500Z
UID:2686-1631786400-1631804400@peoplefirstmerseyside.co.uk
SUMMARY:The DAVID Project
DESCRIPTION:
URL:https://peoplefirstmerseyside.co.uk/event/the-david-project-14/
END:VEVENT
BEGIN:VEVENT
DTSTART;TZID=UTC:20210915T100000
DTEND;TZID=UTC:20210915T113000
DTSTAMP:20260421T164725
CREATED:20210706T092318Z
LAST-MODIFIED:20210706T092319Z
UID:2727-1631700000-1631705400@peoplefirstmerseyside.co.uk
SUMMARY:Sing and Sign with Helen Andrews
DESCRIPTION:Sing and Sign Choir session 9
URL:https://peoplefirstmerseyside.co.uk/event/sing-and-sign-with-helen-andrews-9/
LOCATION:People First Merseyside Office\, 375 Stanley Road\, Bootle\, L20 3EF
END:VEVENT
BEGIN:VEVENT
DTSTART;TZID=UTC:20210914T130000
DTEND;TZID=UTC:20210914T150000
DTSTAMP:20260421T164725
CREATED:20210907T110022Z
LAST-MODIFIED:20210907T110023Z
UID:3020-1631624400-1631631600@peoplefirstmerseyside.co.uk
SUMMARY:Live and Learn
DESCRIPTION:
URL:https://peoplefirstmerseyside.co.uk/event/live-and-learn-11/
END:VEVENT
BEGIN:VEVENT
DTSTART;TZID=UTC:20210914T130000
DTEND;TZID=UTC:20210914T150000
DTSTAMP:20260421T164725
CREATED:20210706T103106Z
LAST-MODIFIED:20210706T103107Z
UID:2774-1631624400-1631631600@peoplefirstmerseyside.co.uk
SUMMARY:Red Flag/Lung Health Roadshow in Thirsk
DESCRIPTION:
URL:https://peoplefirstmerseyside.co.uk/event/red-flag-lung-health-roadshow-in-thirsk/
END:VEVENT
BEGIN:VEVENT
DTSTART;TZID=UTC:20210914T093000
DTEND;TZID=UTC:20210914T113000
DTSTAMP:20260421T164725
CREATED:20210706T102835Z
LAST-MODIFIED:20210706T102836Z
UID:2772-1631611800-1631619000@peoplefirstmerseyside.co.uk
SUMMARY:Red Flag/Lung Health Roadshow in Richmond
DESCRIPTION:
URL:https://peoplefirstmerseyside.co.uk/event/red-flag-lung-health-roadshow-in-richmond/
END:VEVENT
BEGIN:VEVENT
DTSTART;TZID=UTC:20210913T130000
DTEND;TZID=UTC:20210913T150000
DTSTAMP:20260421T164725
CREATED:20210907T105925Z
LAST-MODIFIED:20210907T105926Z
UID:3018-1631538000-1631545200@peoplefirstmerseyside.co.uk
SUMMARY:Live and Learn
DESCRIPTION:Back to the basics (office skills training)
URL:https://peoplefirstmerseyside.co.uk/event/live-and-learn-10/
END:VEVENT
BEGIN:VEVENT
DTSTART;TZID=UTC:20210913T130000
DTEND;TZID=UTC:20210913T150000
DTSTAMP:20260421T164725
CREATED:20210907T105519Z
LAST-MODIFIED:20210907T105520Z
UID:3014-1631538000-1631545200@peoplefirstmerseyside.co.uk
SUMMARY:Live and Learn
DESCRIPTION:Back to the basics (office skills training)
URL:https://peoplefirstmerseyside.co.uk/event/live-and-learn-9/
CATEGORIES:Merseyside Live and Learn Group,Sefton
END:VEVENT
BEGIN:VEVENT
DTSTART;TZID=UTC:20210913T130000
DTEND;TZID=UTC:20210913T150000
DTSTAMP:20260421T164725
CREATED:20210706T094715Z
LAST-MODIFIED:20210706T094716Z
UID:2770-1631538000-1631545200@peoplefirstmerseyside.co.uk
SUMMARY:Red Flag/Lung Health Roadshow in Scarborough
DESCRIPTION:
URL:https://peoplefirstmerseyside.co.uk/event/red-flag-lung-health-roadshow-in-scarborough/
END:VEVENT
BEGIN:VEVENT
DTSTART;TZID=UTC:20210909T100000
DTEND;TZID=UTC:20210909T150000
DTSTAMP:20260421T164725
CREATED:20210702T134709Z
LAST-MODIFIED:20210727T085535Z
UID:2684-1631181600-1631199600@peoplefirstmerseyside.co.uk
SUMMARY:The DAVID Project
DESCRIPTION:
URL:https://peoplefirstmerseyside.co.uk/event/the-david-project-13/
END:VEVENT
BEGIN:VEVENT
DTSTART;TZID=UTC:20210908T100000
DTEND;TZID=UTC:20210908T113000
DTSTAMP:20260421T164725
CREATED:20210706T092239Z
LAST-MODIFIED:20210706T092239Z
UID:2723-1631095200-1631100600@peoplefirstmerseyside.co.uk
SUMMARY:Sing and Sign with Helen Andrews
DESCRIPTION:Sing and Sign Choir session 8
URL:https://peoplefirstmerseyside.co.uk/event/sing-and-sign-with-helen-andrews-8/
LOCATION:People First Merseyside Office\, 375 Stanley Road\, Bootle\, L20 3EF
END:VEVENT
BEGIN:VEVENT
DTSTART;TZID=UTC:20210907T130000
DTEND;TZID=UTC:20210907T150000
DTSTAMP:20260421T164725
CREATED:20210907T105230Z
LAST-MODIFIED:20210907T105231Z
UID:3011-1631019600-1631026800@peoplefirstmerseyside.co.uk
SUMMARY:Live and Learn
DESCRIPTION:Back to the basics (office skills)
URL:https://peoplefirstmerseyside.co.uk/event/live-and-learn-8/
END:VEVENT
BEGIN:VEVENT
DTSTART;TZID=UTC:20210902T100000
DTEND;TZID=UTC:20210902T150000
DTSTAMP:20260421T164725
CREATED:20210702T134538Z
LAST-MODIFIED:20210727T092240Z
UID:2682-1630576800-1630594800@peoplefirstmerseyside.co.uk
SUMMARY:The DAVID Project
DESCRIPTION:Bereavement session with David Corkhill in the morning. Death Cafe in the afternoon.
URL:https://peoplefirstmerseyside.co.uk/event/the-david-project-12/
END:VEVENT
BEGIN:VEVENT
DTSTART;TZID=UTC:20210901T100000
DTEND;TZID=UTC:20210901T113000
DTSTAMP:20260421T164725
CREATED:20210706T092133Z
LAST-MODIFIED:20210706T092134Z
UID:2720-1630490400-1630495800@peoplefirstmerseyside.co.uk
SUMMARY:Sing and Sign with Helen Andrews
DESCRIPTION:Sing and Sign Choir session 7
URL:https://peoplefirstmerseyside.co.uk/event/sing-and-sign-with-helen-andrews-7/
LOCATION:People First Merseyside Office\, 375 Stanley Road\, Bootle\, L20 3EF
END:VEVENT
BEGIN:VEVENT
DTSTART;TZID=UTC:20210826T133000
DTEND;TZID=UTC:20210826T150000
DTSTAMP:20260421T164725
CREATED:20210702T134143Z
LAST-MODIFIED:20210727T085851Z
UID:2680-1629984600-1629990000@peoplefirstmerseyside.co.uk
SUMMARY:The DAVID Project
DESCRIPTION:Zoom meeting with Sefton carers.
URL:https://peoplefirstmerseyside.co.uk/event/the-david-project-11/
END:VEVENT
BEGIN:VEVENT
DTSTART;TZID=UTC:20210826T013000
DTEND;TZID=UTC:20210826T150000
DTSTAMP:20260421T164725
CREATED:20210727T141833Z
LAST-MODIFIED:20210727T141834Z
UID:2901-1629941400-1629990000@peoplefirstmerseyside.co.uk
SUMMARY:DAVID
DESCRIPTION:zoom with carers
URL:https://peoplefirstmerseyside.co.uk/event/david/
END:VEVENT
BEGIN:VEVENT
DTSTART;TZID=UTC:20210825T100000
DTEND;TZID=UTC:20210825T113000
DTSTAMP:20260421T164725
CREATED:20210706T091632Z
LAST-MODIFIED:20210706T091633Z
UID:2716-1629885600-1629891000@peoplefirstmerseyside.co.uk
SUMMARY:Sing and Sign with Helen Andrews
DESCRIPTION:Sing and Sign Choir session 6
URL:https://peoplefirstmerseyside.co.uk/event/sing-and-sign-with-helen-andrews-6/
LOCATION:People First Merseyside Office\, 375 Stanley Road\, Bootle\, L20 3EF
END:VEVENT
END:VCALENDAR