BEGIN:VCALENDAR
VERSION:2.0
PRODID:-//People First Merseyside - ECPv6.15.14//NONSGML v1.0//EN
CALSCALE:GREGORIAN
METHOD:PUBLISH
X-ORIGINAL-URL:https://peoplefirstmerseyside.co.uk
X-WR-CALDESC:Events for People First Merseyside
REFRESH-INTERVAL;VALUE=DURATION:PT1H
X-Robots-Tag:noindex
X-PUBLISHED-TTL:PT1H
BEGIN:VTIMEZONE
TZID:UTC
BEGIN:STANDARD
TZOFFSETFROM:+0000
TZOFFSETTO:+0000
TZNAME:UTC
DTSTART:20200101T000000
END:STANDARD
END:VTIMEZONE
BEGIN:VEVENT
DTSTART;TZID=UTC:20220201T130000
DTEND;TZID=UTC:20220201T150000
DTSTAMP:20260421T085928
CREATED:20220125T163448Z
LAST-MODIFIED:20220125T163449Z
UID:3443-1643720400-1643727600@peoplefirstmerseyside.co.uk
SUMMARY:Live and Learn - Back to Basics
DESCRIPTION:
URL:https://peoplefirstmerseyside.co.uk/event/live-and-learn-back-to-basics-19/
END:VEVENT
BEGIN:VEVENT
DTSTART;TZID=UTC:20220201T100000
DTEND;TZID=UTC:20220201T120000
DTSTAMP:20260421T085928
CREATED:20220125T163306Z
LAST-MODIFIED:20220125T163306Z
UID:3441-1643709600-1643716800@peoplefirstmerseyside.co.uk
SUMMARY:Team leaders office work
DESCRIPTION:
URL:https://peoplefirstmerseyside.co.uk/event/team-leaders-office-work/
END:VEVENT
BEGIN:VEVENT
DTSTART;TZID=UTC:20220131T130000
DTEND;TZID=UTC:20220131T150000
DTSTAMP:20260421T085928
CREATED:20220125T163054Z
LAST-MODIFIED:20220125T163055Z
UID:3439-1643634000-1643641200@peoplefirstmerseyside.co.uk
SUMMARY:Live and Learn - Back to Basics
DESCRIPTION:
URL:https://peoplefirstmerseyside.co.uk/event/live-and-learn-back-to-basics-18/
END:VEVENT
BEGIN:VEVENT
DTSTART;TZID=UTC:20220125T100000
DTEND;TZID=UTC:20220125T123000
DTSTAMP:20260421T085928
CREATED:20220622T091746Z
LAST-MODIFIED:20220622T093045Z
UID:3821-1643104800-1643113800@peoplefirstmerseyside.co.uk
SUMMARY:South and Central Community Champion Network meeting
DESCRIPTION:
URL:https://peoplefirstmerseyside.co.uk/event/community-champion-network-meeting/
END:VEVENT
BEGIN:VEVENT
DTSTART;TZID=UTC:20211216T100000
DTEND;TZID=UTC:20211216T150000
DTSTAMP:20260421T085928
CREATED:20210727T091537Z
LAST-MODIFIED:20210727T091538Z
UID:2874-1639648800-1639666800@peoplefirstmerseyside.co.uk
SUMMARY:The DAVID Project
DESCRIPTION:
URL:https://peoplefirstmerseyside.co.uk/event/the-david-project-27/
END:VEVENT
BEGIN:VEVENT
DTSTART;TZID=UTC:20211214T120000
DTEND;TZID=UTC:20211214T150000
DTSTAMP:20260421T085928
CREATED:20211129T110746Z
LAST-MODIFIED:20211129T110748Z
UID:3395-1639483200-1639494000@peoplefirstmerseyside.co.uk
SUMMARY:Christmas Party
DESCRIPTION:
URL:https://peoplefirstmerseyside.co.uk/event/christmas-party/
END:VEVENT
BEGIN:VEVENT
DTSTART;TZID=UTC:20211213T130000
DTEND;TZID=UTC:20211213T150000
DTSTAMP:20260421T085928
CREATED:20211102T161514Z
LAST-MODIFIED:20211102T161515Z
UID:3325-1639400400-1639407600@peoplefirstmerseyside.co.uk
SUMMARY:Live and Learn - IT course (Session 5)
DESCRIPTION:
URL:https://peoplefirstmerseyside.co.uk/event/live-and-learn-it-course-session-5/
END:VEVENT
BEGIN:VEVENT
DTSTART;TZID=UTC:20211213T100000
DTEND;TZID=UTC:20211213T120000
DTSTAMP:20260421T085928
CREATED:20211102T161850Z
LAST-MODIFIED:20211102T161851Z
UID:3332-1639389600-1639396800@peoplefirstmerseyside.co.uk
SUMMARY:Live and Learn - Team leaders admin
DESCRIPTION:
URL:https://peoplefirstmerseyside.co.uk/event/live-and-learn-team-leaders-admin-4/
END:VEVENT
BEGIN:VEVENT
DTSTART;TZID=UTC:20211209T100000
DTEND;TZID=UTC:20211209T150000
DTSTAMP:20260421T085928
CREATED:20210727T091405Z
LAST-MODIFIED:20210727T091405Z
UID:2872-1639044000-1639062000@peoplefirstmerseyside.co.uk
SUMMARY:The DAVID Project
DESCRIPTION:
URL:https://peoplefirstmerseyside.co.uk/event/the-david-project-26/
END:VEVENT
BEGIN:VEVENT
DTSTART;TZID=UTC:20211207T130000
DTEND;TZID=UTC:20211207T150000
DTSTAMP:20260421T085928
CREATED:20211129T111054Z
LAST-MODIFIED:20211129T111055Z
UID:3399-1638882000-1638889200@peoplefirstmerseyside.co.uk
SUMMARY:Live and Learn - Back to Basics
DESCRIPTION:
URL:https://peoplefirstmerseyside.co.uk/event/live-and-learn-back-to-basics-17/
END:VEVENT
BEGIN:VEVENT
DTSTART;TZID=UTC:20211206T130000
DTEND;TZID=UTC:20211206T150000
DTSTAMP:20260421T085928
CREATED:20211102T161252Z
LAST-MODIFIED:20211102T161253Z
UID:3322-1638795600-1638802800@peoplefirstmerseyside.co.uk
SUMMARY:Live and Learn - IT course (Session 4)
DESCRIPTION:
URL:https://peoplefirstmerseyside.co.uk/event/live-and-learn-it-course-session-4/
END:VEVENT
BEGIN:VEVENT
DTSTART;TZID=UTC:20211206T100000
DTEND;TZID=UTC:20211206T120000
DTSTAMP:20260421T085928
CREATED:20211102T161756Z
LAST-MODIFIED:20211102T161756Z
UID:3330-1638784800-1638792000@peoplefirstmerseyside.co.uk
SUMMARY:Live and Learn - Team leaders admin
DESCRIPTION:
URL:https://peoplefirstmerseyside.co.uk/event/live-and-learn-team-leaders-admin-3/
END:VEVENT
BEGIN:VEVENT
DTSTART;TZID=UTC:20211202T100000
DTEND;TZID=UTC:20211202T150000
DTSTAMP:20260421T085928
CREATED:20210727T091301Z
LAST-MODIFIED:20210727T091301Z
UID:2870-1638439200-1638457200@peoplefirstmerseyside.co.uk
SUMMARY:The DAVID Project
DESCRIPTION:
URL:https://peoplefirstmerseyside.co.uk/event/the-david-project-25/
END:VEVENT
BEGIN:VEVENT
DTSTART;TZID=UTC:20211201T100000
DTEND;TZID=UTC:20211201T113000
DTSTAMP:20260421T085928
CREATED:20210706T093338Z
LAST-MODIFIED:20210706T093338Z
UID:2756-1638352800-1638358200@peoplefirstmerseyside.co.uk
SUMMARY:Sing and Sign with Helen Andrews
DESCRIPTION:Sing and Sign Choir session 20
URL:https://peoplefirstmerseyside.co.uk/event/sing-and-sign-with-helen-andrews-20/
LOCATION:People First Merseyside Office\, 375 Stanley Road\, Bootle\, L20 3EF
END:VEVENT
BEGIN:VEVENT
DTSTART;TZID=UTC:20211130T130000
DTEND;TZID=UTC:20211130T150000
DTSTAMP:20260421T085928
CREATED:20211102T162739Z
LAST-MODIFIED:20211102T162740Z
UID:3340-1638277200-1638284400@peoplefirstmerseyside.co.uk
SUMMARY:Live and Learn - Back to Basics
DESCRIPTION:
URL:https://peoplefirstmerseyside.co.uk/event/live-and-learn-back-to-basics-16/
END:VEVENT
BEGIN:VEVENT
DTSTART;TZID=UTC:20211129T130000
DTEND;TZID=UTC:20211129T150000
DTSTAMP:20260421T085928
CREATED:20211102T161151Z
LAST-MODIFIED:20211102T161152Z
UID:3320-1638190800-1638198000@peoplefirstmerseyside.co.uk
SUMMARY:Live and Learn - IT course (Session 3)
DESCRIPTION:
URL:https://peoplefirstmerseyside.co.uk/event/live-and-learn-it-course-session-3/
END:VEVENT
BEGIN:VEVENT
DTSTART;TZID=UTC:20211125T133000
DTEND;TZID=UTC:20211125T150000
DTSTAMP:20260421T085928
CREATED:20210727T091133Z
LAST-MODIFIED:20210727T091155Z
UID:2867-1637847000-1637852400@peoplefirstmerseyside.co.uk
SUMMARY:The DAVID Project
DESCRIPTION:Zoom meeting with Sefton Carers
URL:https://peoplefirstmerseyside.co.uk/event/the-david-project-24/
END:VEVENT
BEGIN:VEVENT
DTSTART;TZID=UTC:20211124T100000
DTEND;TZID=UTC:20211124T113000
DTSTAMP:20260421T085928
CREATED:20210706T093310Z
LAST-MODIFIED:20210706T093310Z
UID:2754-1637748000-1637753400@peoplefirstmerseyside.co.uk
SUMMARY:Sing and Sign with Helen Andrews
DESCRIPTION:Sing and Sign Choir session 19
URL:https://peoplefirstmerseyside.co.uk/event/sing-and-sign-with-helen-andrews-19/
LOCATION:People First Merseyside Office\, 375 Stanley Road\, Bootle\, L20 3EF
END:VEVENT
BEGIN:VEVENT
DTSTART;TZID=UTC:20211123T130000
DTEND;TZID=UTC:20211123T150000
DTSTAMP:20260421T085928
CREATED:20211102T162236Z
LAST-MODIFIED:20211102T162350Z
UID:3337-1637672400-1637679600@peoplefirstmerseyside.co.uk
SUMMARY:Live and Learn - Back to Basics
DESCRIPTION:
URL:https://peoplefirstmerseyside.co.uk/event/3337/
END:VEVENT
BEGIN:VEVENT
DTSTART;TZID=UTC:20211122T130000
DTEND;TZID=UTC:20211122T150000
DTSTAMP:20260421T085928
CREATED:20211102T161101Z
LAST-MODIFIED:20211102T161102Z
UID:3318-1637586000-1637593200@peoplefirstmerseyside.co.uk
SUMMARY:Live and Learn - IT course (Session 2)
DESCRIPTION:
URL:https://peoplefirstmerseyside.co.uk/event/live-and-learn-it-course-session-2/
END:VEVENT
BEGIN:VEVENT
DTSTART;TZID=UTC:20211122T100000
DTEND;TZID=UTC:20211122T120000
DTSTAMP:20260421T085928
CREATED:20211102T161702Z
LAST-MODIFIED:20211102T161703Z
UID:3328-1637575200-1637582400@peoplefirstmerseyside.co.uk
SUMMARY:Live and Learn - Team leaders admin
DESCRIPTION:
URL:https://peoplefirstmerseyside.co.uk/event/live-and-learn-team-leaders-admin-2/
END:VEVENT
BEGIN:VEVENT
DTSTART;TZID=UTC:20211118T100000
DTEND;TZID=UTC:20211118T150000
DTSTAMP:20260421T085928
CREATED:20210727T090940Z
LAST-MODIFIED:20210727T092016Z
UID:2865-1637229600-1637247600@peoplefirstmerseyside.co.uk
SUMMARY:The DAVID Project
DESCRIPTION:
URL:https://peoplefirstmerseyside.co.uk/event/the-david-project-23/
END:VEVENT
BEGIN:VEVENT
DTSTART;TZID=UTC:20211117T100000
DTEND;TZID=UTC:20211117T113000
DTSTAMP:20260421T085928
CREATED:20210706T093152Z
LAST-MODIFIED:20210706T093211Z
UID:2751-1637143200-1637148600@peoplefirstmerseyside.co.uk
SUMMARY:Sing and Sign with Helen Andrews
DESCRIPTION:Sing and Sign Choir session 18
URL:https://peoplefirstmerseyside.co.uk/event/sing-and-sign-with-helen-andrews-18/
LOCATION:People First Merseyside Office\, 375 Stanley Road\, Bootle\, L20 3EF
END:VEVENT
BEGIN:VEVENT
DTSTART;TZID=UTC:20211116T130000
DTEND;TZID=UTC:20211116T150000
DTSTAMP:20260421T085928
CREATED:20211102T162146Z
LAST-MODIFIED:20211102T162147Z
UID:3335-1637067600-1637074800@peoplefirstmerseyside.co.uk
SUMMARY:Live and Learn - Back to Basics
DESCRIPTION:
URL:https://peoplefirstmerseyside.co.uk/event/live-and-learn-back-to-basics-15/
END:VEVENT
BEGIN:VEVENT
DTSTART;TZID=UTC:20211115T130000
DTEND;TZID=UTC:20211115T150000
DTSTAMP:20260421T085928
CREATED:20211102T160841Z
LAST-MODIFIED:20211102T160842Z
UID:3316-1636981200-1636988400@peoplefirstmerseyside.co.uk
SUMMARY:Live and Learn - IT Course (Session 1)
DESCRIPTION:
URL:https://peoplefirstmerseyside.co.uk/event/live-and-learn-it-course-session-1/
END:VEVENT
BEGIN:VEVENT
DTSTART;TZID=UTC:20211115T100000
DTEND;TZID=UTC:20211115T120000
DTSTAMP:20260421T085928
CREATED:20211102T160624Z
LAST-MODIFIED:20211102T160625Z
UID:3313-1636970400-1636977600@peoplefirstmerseyside.co.uk
SUMMARY:Live and Learn - Team leaders admin
DESCRIPTION:
URL:https://peoplefirstmerseyside.co.uk/event/live-and-learn-team-leaders-admin/
END:VEVENT
BEGIN:VEVENT
DTSTART;TZID=UTC:20211111T100000
DTEND;TZID=UTC:20211111T150000
DTSTAMP:20260421T085928
CREATED:20210727T090829Z
LAST-MODIFIED:20210727T092050Z
UID:2863-1636624800-1636642800@peoplefirstmerseyside.co.uk
SUMMARY:The DAVID Project
DESCRIPTION:
URL:https://peoplefirstmerseyside.co.uk/event/the-david-project-22/
END:VEVENT
BEGIN:VEVENT
DTSTART;TZID=UTC:20211110T100000
DTEND;TZID=UTC:20211110T113000
DTSTAMP:20260421T085928
CREATED:20210706T093128Z
LAST-MODIFIED:20210706T093129Z
UID:2749-1636538400-1636543800@peoplefirstmerseyside.co.uk
SUMMARY:Sing and Sign with Helen Andrews
DESCRIPTION:Sing and Sign Choir session 17
URL:https://peoplefirstmerseyside.co.uk/event/sing-and-sign-with-helen-andrews-17/
LOCATION:People First Merseyside Office\, 375 Stanley Road\, Bootle\, L20 3EF
END:VEVENT
BEGIN:VEVENT
DTSTART;TZID=UTC:20211109T130000
DTEND;TZID=UTC:20211109T150000
DTSTAMP:20260421T085928
CREATED:20211018T103837Z
LAST-MODIFIED:20211018T103838Z
UID:3282-1636462800-1636470000@peoplefirstmerseyside.co.uk
SUMMARY:Live and learn - Back to basics
DESCRIPTION:
URL:https://peoplefirstmerseyside.co.uk/event/live-and-learn-back-to-basics-14/
END:VEVENT
BEGIN:VEVENT
DTSTART;TZID=UTC:20211108T100000
DTEND;TZID=UTC:20211108T150000
DTSTAMP:20260421T085928
CREATED:20211018T103135Z
LAST-MODIFIED:20211018T103241Z
UID:3278-1636365600-1636383600@peoplefirstmerseyside.co.uk
SUMMARY:MEMBERS OFF - STAFF TRAINING
DESCRIPTION:
URL:https://peoplefirstmerseyside.co.uk/event/members-off-staff-training/
END:VEVENT
END:VCALENDAR